BEGIN:VCALENDAR
VERSION:2.0
PRODID:test.reiseregion-flaeming.de
BEGIN:VEVENT
UID:69e79ed0625f0
DTSTART:20260628T070000Z
SEQUENCE:0
TRANSP:OPAQUE
DTEND:20260628T140000Z
URL:http://test.reiseregion-flaeming.de/veranstaltung/lausitzer-seenland/23
 -forster-kuchentour
LOCATION:Rad- und Reitstadion\, An der Radrennbahn 1\, 03149 Forst (Lausitz
 )
X-APPLE-STRUCTURED-LOCATION;VALUE=URI;X-ADDRESS="Rad- und Reitstadion, An d
 er Radrennbahn 1, 03149 Forst (Lausitz)";X-APPLE-RADIUS=49;X-TITLE=Rad- un
 d Reitstadion:geo:14.621417,51.728970
GEO:14.621417;51.728970
SUMMARY:23. Forster Kuchentour
CLASS:PUBLIC
DESCRIPTION:Die 23. Forster Kuchentour startet ab Rad- und Reitstadion.\n\n
 Die Radtourenfahrt (RTF) ist offen für alle und hat 4 ausgeschilderte Str
 ecken (45 km\, 75 km\, 120 km oder 150 km) zur Auswahl. Es gibt einen Vepf
 legungspunkt.\n\nKontakt:\n\nPolizeisportverein 1893 Forst e.V.\nAn der Ra
 drennbahn  1\n03149 Forst (Lausitz)\nTelefon: +49 3562 43 03 990\nEmail: i
 nfo@psv-forst-lausitz.de\nWebseite: https://psv-forst-lausitz.de/de/starts
 eite.html#content\n\nWeitere Informationen zur Veranstaltung: http://test.
 reiseregion-flaeming.de/veranstaltung/lausitzer-seenland/23-forster-kuchen
 tour
CATEGORIES:Radtouren
DTSTAMP:20260421T155912Z
END:VEVENT
END:VCALENDAR