BEGIN:VCALENDAR
VERSION:2.0
PRODID:test.reiseregion-flaeming.de
BEGIN:VEVENT
UID:69e4dd1ce1ee6
DTSTART:20260919T120000Z
SEQUENCE:0
TRANSP:OPAQUE
DTEND:20260919T190000Z
URL:http://test.reiseregion-flaeming.de/veranstaltung/lausitzer-seenland/we
 inbergfest-guben-grano
LOCATION:Weinberg Guben-Grano\, Am Weinberg\, 03172 Schenkendöbern
X-APPLE-STRUCTURED-LOCATION;VALUE=URI;X-ADDRESS="Weinberg Guben-Grano, Am W
 einberg, 03172 Schenkendöbern";X-APPLE-RADIUS=49;X-TITLE=Weinberg Guben-G
 rano:geo:14.627750,51.977620
GEO:14.627750;51.977620
SUMMARY:Weinbergfest Guben-Grano
CLASS:PUBLIC
DESCRIPTION:Genuss mit Ausblick!\n\nMit eigenem Wein aus der Kelterei Grano
 \, Livemusik und einem feinen Repertoire an Speisen mit lokalem Bezug wird
  das Weinbergfest in Grano in diesem Jahr auch wieder stattfinden. Wein\, 
 Musik und gutes Essen  ̶  eine gelungene Symbiose im Granoer Weinberg. Na
 türlich auch mit Spiel und Spaß für die Kleinsten. Des weiteren werden 
 geführte Rundgänge im Weinberg angeboten.\n\nKontakt:\n\nWeingut & Event
 scheune\nSchulweg 5\n03172 Schenkendöbern\nTelefon: +49 3561 548668\nEmai
 l: kontakt@weingut-guben-grano.de\nWebseite: https://www.weingut-guben-gra
 no.de/\n\nWeitere Informationen zur Veranstaltung: http://test.reiseregion
 -flaeming.de/veranstaltung/lausitzer-seenland/weinbergfest-guben-grano
CATEGORIES:Fest / Brauchtum,Führung / Besichtigung
DTSTAMP:20260419T134813Z
END:VEVENT
END:VCALENDAR