BEGIN:VCALENDAR
VERSION:2.0
PRODID:test.reiseregion-flaeming.de
BEGIN:VEVENT
UID:69e4c2cd53fb3
DTSTART:20260510T080000Z
SEQUENCE:0
TRANSP:OPAQUE
DTEND:20260510T130000Z
URL:http://test.reiseregion-flaeming.de/veranstaltung/lausitzer-seenland/kl
 eintierzucht-live-erleben-beim-tierparkfest
LOCATION:Tierpark Senftenbeg\, Steindamm 24\, 01968 Senftenberg
X-APPLE-STRUCTURED-LOCATION;VALUE=URI;X-ADDRESS="Tierpark Senftenbeg, Stein
 damm 24, 01968 Senftenberg";X-APPLE-RADIUS=49;X-TITLE=Tierpark Senftenbeg:
 geo:14.005413,51.514737
GEO:14.005413;51.514737
SUMMARY:Kleintierzucht live erleben beim Tierparkfest
CLASS:PUBLIC
DESCRIPTION:Der Kleintierzuchtverein lädt alle Besucher herzlich ein\, die
  Vielfalt und Faszination der Rassegeflügel- und Kaninchenzucht hautnah k
 ennenzulernen. An unserem Stand erhalten Sie interessante Einblicke in die
  Haltung\, Pflege und Zucht unserer Tiere.\n\nOb Groß oder Klein – wir 
 beantworten gern Ihre Fragen und informieren über unsere Vereinsarbeit.\n
 \nWir freuen uns auf Ihren Besuch!\n\nKontakt:\n\nJan Angrick\n\n \nTelefo
 n: +49 17621538659\nEmail: \n\nWeitere Informationen zur Veranstaltung: ht
 tp://test.reiseregion-flaeming.de/veranstaltung/lausitzer-seenland/kleinti
 erzucht-live-erleben-beim-tierparkfest
CATEGORIES:Ausstellung
DTSTAMP:20260419T115557Z
END:VEVENT
END:VCALENDAR