BEGIN:VCALENDAR
VERSION:2.0
PRODID:test.reiseregion-flaeming.de
BEGIN:VEVENT
UID:69e7567eb378d
DTSTART:20261116T170000Z
SEQUENCE:0
TRANSP:OPAQUE
DTEND:20261116T190000Z
URL:http://test.reiseregion-flaeming.de/veranstaltung/uckermark/montagskonz
 ert-im-berlischky-pavillon-3
LOCATION:Berlischky-Pavillon\, Lindenallee\, 16303 Schwedt/Oder
X-APPLE-STRUCTURED-LOCATION;VALUE=URI;X-ADDRESS="Berlischky-Pavillon, Linde
 nallee, 16303 Schwedt/Oder";X-APPLE-RADIUS=49;X-TITLE=Berlischky-Pavillon:
 geo:14.288925,53.059097
GEO:14.288925;53.059097
SUMMARY:Montagskonzert im Berlischky-Pavillon
CLASS:PUBLIC
DESCRIPTION:Das letzte Konzert 2026 der Reihe „Montagskonzerte im Berlisc
 hky-Pavillon“ ist der „Alten Musik“ gewidmet. Tabea Höfer\, Violine
 \, und der norwegische Gitarrist Thor Harald Johnsen präsentieren ihr Pro
 gramm „Getanzt in Europa – Stilisierte und tanzbare Musik aus Frankrei
 ch\, Spanien und England“. Die Moderation wird erneut die rbb-Moderatori
 n Imke Griebsch übernehmen.\n\nKontakt:\n\nMusik- und Kunstschule J. A. P
 . Schulz\nBerliner Straße 56\n16303 Schwedt/Oder\nTelefon: +49 3332 26631
 1\nEmail: musikschule.stadt@schwedt.de\nWebseite: https://www.schwedt.eu/m
 usikschule\n\nWeitere Informationen zur Veranstaltung: http://test.reisere
 gion-flaeming.de/veranstaltung/uckermark/montagskonzert-im-berlischky-pavi
 llon-3
CATEGORIES:Rock / Pop / Jazz
DTSTAMP:20260421T105038Z
END:VEVENT
END:VCALENDAR