BEGIN:VCALENDAR
VERSION:2.0
PRODID:test.reiseregion-flaeming.de
BEGIN:VEVENT
UID:69e79ebc12fd8
DTSTART:20260523T130000Z
SEQUENCE:0
TRANSP:OPAQUE
DTEND:20260523T170000Z
URL:http://test.reiseregion-flaeming.de/veranstaltung/lausitzer-seenland/fo
 rster-radsporttage-14-forster-derny-cup
LOCATION:Rad- und Reitstadion\, An der Radrennbahn 1\, 03149 Forst (Lausitz
 )
X-APPLE-STRUCTURED-LOCATION;VALUE=URI;X-ADDRESS="Rad- und Reitstadion, An d
 er Radrennbahn 1, 03149 Forst (Lausitz)";X-APPLE-RADIUS=49;X-TITLE=Rad- un
 d Reitstadion:geo:14.621417,51.728970
GEO:14.621417;51.728970
SUMMARY:Forster Radsporttage - 14. Forster Derny - Cup
CLASS:PUBLIC
DESCRIPTION:Das Radsportfest mit 2 Derny-Läufen und dem Fette-Reifen-Renne
 n für Kinder bis 11 Jahre\n\nKontakt:\n\nPolizeisportverein 1893 Forst e.
 V.\nAn der Radrennbahn  1\n03149 Forst (Lausitz)\nTelefon: +49 3562 43 03 
 990\nEmail: info@psv-forst-lausitz.de\nWebseite: https://psv-forst-lausitz
 .de/de/startseite.html#content\n\nWeitere Informationen zur Veranstaltung:
  http://test.reiseregion-flaeming.de/veranstaltung/lausitzer-seenland/fors
 ter-radsporttage-14-forster-derny-cup
CATEGORIES:Sport
DTSTAMP:20260421T155852Z
END:VEVENT
END:VCALENDAR