BEGIN:VCALENDAR
VERSION:2.0
PRODID:test.reiseregion-flaeming.de
BEGIN:VEVENT
UID:69e7b1d58afb1
DTSTART:20260516T080000Z
SEQUENCE:0
TRANSP:OPAQUE
DTEND:20260516T110000Z
URL:http://test.reiseregion-flaeming.de/veranstaltung/lausitzer-seenland/tu
 rmfest-am-sedlitzer-turm
LOCATION:Sportplatz Sedlitz\, Mühlenstr.\, 01968 Senftenberg
X-APPLE-STRUCTURED-LOCATION;VALUE=URI;X-ADDRESS="Sportplatz Sedlitz, Mühle
 nstr., 01968 Senftenberg";X-APPLE-RADIUS=49;X-TITLE=Sportplatz Sedlitz:geo
 :14.004661,51.518813
GEO:14.004661;51.518813
SUMMARY:Turmfest am Sedlitzer Turm
CLASS:PUBLIC
DESCRIPTION:**Klettern\, Bouldern\, Spielen u.v.m.**\n\nDie Kinder-\, Jugen
 d- und Familiengruppen der Sedlitzer Bergfreunde bieten bunte Mitmachangeb
 ote für alle - von Kind bis Erwachsene! Mutige Gäste können versuchen d
 en Kletterturm zu bezwingen.\n\nAm Turm gibt es eine Auswahl an vegetarisc
 hen Speisen\, alkoholfreie Getränke und Trödelmarkt.\n\nDie Sportgastst
 ätte bietet warme Speisen\, Getränke\, Eis und vieles mehr.\n\nKontakt:\
 n\nSedlitzer Bergfreunde e.V.\n\n \nTelefon: \nEmail: \n\nWeitere Informat
 ionen zur Veranstaltung: http://test.reiseregion-flaeming.de/veranstaltung
 /lausitzer-seenland/turmfest-am-sedlitzer-turm
CATEGORIES:Fest / Brauchtum,Kinder und Jugendliche,Sport
DTSTAMP:20260421T172021Z
END:VEVENT
BEGIN:VEVENT
UID:69e7b1d58cfc6
DTSTART:20260515T090000Z
SEQUENCE:0
TRANSP:OPAQUE
DTEND:20260515T170000Z
URL:http://test.reiseregion-flaeming.de/veranstaltung/lausitzer-seenland/tu
 rmfest-am-sedlitzer-turm
LOCATION:Sportplatz Sedlitz\, Mühlenstr.\, 01968 Senftenberg
X-APPLE-STRUCTURED-LOCATION;VALUE=URI;X-ADDRESS="Sportplatz Sedlitz, Mühle
 nstr., 01968 Senftenberg";X-APPLE-RADIUS=49;X-TITLE=Sportplatz Sedlitz:geo
 :14.004661,51.518813
GEO:14.004661;51.518813
SUMMARY:Turmfest am Sedlitzer Turm
CLASS:PUBLIC
DESCRIPTION:**Klettern\, Bouldern\, Spielen u.v.m.**\n\nDie Kinder-\, Jugen
 d- und Familiengruppen der Sedlitzer Bergfreunde bieten bunte Mitmachangeb
 ote für alle - von Kind bis Erwachsene! Mutige Gäste können versuchen d
 en Kletterturm zu bezwingen.\n\nAm Turm gibt es eine Auswahl an vegetarisc
 hen Speisen\, alkoholfreie Getränke und Trödelmarkt.\n\nDie Sportgastst
 ätte bietet warme Speisen\, Getränke\, Eis und vieles mehr.\n\nKontakt:\
 n\nSedlitzer Bergfreunde e.V.\n\n \nTelefon: \nEmail: \n\nWeitere Informat
 ionen zur Veranstaltung: http://test.reiseregion-flaeming.de/veranstaltung
 /lausitzer-seenland/turmfest-am-sedlitzer-turm
CATEGORIES:Fest / Brauchtum,Kinder und Jugendliche,Sport
DTSTAMP:20260421T172021Z
END:VEVENT
END:VCALENDAR