BEGIN:VCALENDAR
VERSION:2.0
PRODID:test.reiseregion-flaeming.de
BEGIN:VEVENT
UID:69e77160202a6
DTSTART:20260512T130000Z
SEQUENCE:0
TRANSP:OPAQUE
DTEND:20260512T140000Z
URL:http://test.reiseregion-flaeming.de/veranstaltung/lausitzer-seenland/me
 in-kitastart-mit-froebel-offene-krabbelgruppe
LOCATION:Kindergarten Seesternchen\, Stralsunder Str. 12\, 01968 Senftenber
 g
X-APPLE-STRUCTURED-LOCATION;VALUE=URI;X-ADDRESS="Kindergarten Seesternchen,
  Stralsunder Str. 12, 01968 Senftenberg";X-APPLE-RADIUS=49;X-TITLE=Kinderg
 arten Seesternchen:geo:13.986564,51.508403
GEO:13.986564;51.508403
SUMMARY:Mein KitaStart mit Fröbel - Offene Krabbelgruppe
CLASS:PUBLIC
DESCRIPTION:Der Beginn in der Kita ist eine wichtige Zeit für Kinder und i
 hre Familien. Unsere pädagogischen Fachkräfte unterstützen diesen Über
 gang aufmerksam und einfühlsam. Wir möchten\, dass Sie und Ihr Kind sich
  bei uns wohlfühlen.\n\nKontakt:\n\nSeesternchen\nStralsunder Str.  12\n0
 1968 Senftenberg\nTelefon: +49 03573 61192\nEmail: seesternchen-senftenber
 g@froebel-gruppe.de\nWebseite: https://seesternchen.froebel.info\n\nWeiter
 e Informationen zur Veranstaltung: http://test.reiseregion-flaeming.de/ver
 anstaltung/lausitzer-seenland/mein-kitastart-mit-froebel-offene-krabbelgru
 ppe
CATEGORIES:Kinder und Jugendliche,Sport
DTSTAMP:20260421T124523Z
END:VEVENT
BEGIN:VEVENT
UID:69e771626befa
DTSTART:20260609T130000Z
SEQUENCE:0
TRANSP:OPAQUE
DTEND:20260609T140000Z
URL:http://test.reiseregion-flaeming.de/veranstaltung/lausitzer-seenland/me
 in-kitastart-mit-froebel-offene-krabbelgruppe
LOCATION:Kindergarten Seesternchen\, Stralsunder Str. 12\, 01968 Senftenber
 g
X-APPLE-STRUCTURED-LOCATION;VALUE=URI;X-ADDRESS="Kindergarten Seesternchen,
  Stralsunder Str. 12, 01968 Senftenberg";X-APPLE-RADIUS=49;X-TITLE=Kinderg
 arten Seesternchen:geo:13.986564,51.508403
GEO:13.986564;51.508403
SUMMARY:Mein KitaStart mit Fröbel - Offene Krabbelgruppe
CLASS:PUBLIC
DESCRIPTION:Der Beginn in der Kita ist eine wichtige Zeit für Kinder und i
 hre Familien. Unsere pädagogischen Fachkräfte unterstützen diesen Über
 gang aufmerksam und einfühlsam. Wir möchten\, dass Sie und Ihr Kind sich
  bei uns wohlfühlen.\n\nKontakt:\n\nSeesternchen\nStralsunder Str.  12\n0
 1968 Senftenberg\nTelefon: +49 03573 61192\nEmail: seesternchen-senftenber
 g@froebel-gruppe.de\nWebseite: https://seesternchen.froebel.info\n\nWeiter
 e Informationen zur Veranstaltung: http://test.reiseregion-flaeming.de/ver
 anstaltung/lausitzer-seenland/mein-kitastart-mit-froebel-offene-krabbelgru
 ppe
CATEGORIES:Kinder und Jugendliche,Sport
DTSTAMP:20260421T124523Z
END:VEVENT
END:VCALENDAR