BEGIN:VCALENDAR
VERSION:2.0
PRODID:test.reiseregion-flaeming.de
BEGIN:VEVENT
UID:69e75a005a952
DTSTART:20260703T090000Z
SEQUENCE:0
TRANSP:OPAQUE
DTEND:20260703T110000Z
URL:http://test.reiseregion-flaeming.de/veranstaltung/lausitzer-seenland/st
 eigen-sie-dem-senftenberger-rathaus-auf-das-dach
LOCATION:Rathaus Senftenberg\, Markt 1\, 01968 Senftenberg
X-APPLE-STRUCTURED-LOCATION;VALUE=URI;X-ADDRESS="Rathaus Senftenberg, Markt
  1, 01968 Senftenberg";X-APPLE-RADIUS=49;X-TITLE=Rathaus Senftenberg:geo:1
 4.004661,51.518813
GEO:14.004661;51.518813
SUMMARY:Steigen Sie dem Senftenberger Rathaus auf das Dach
CLASS:PUBLIC
DESCRIPTION:Tauchen Sie ein in die faszinierende Geschichte der Stadt Senft
 enberg und entdecken Sie das Rathaus aus einer ganz neuen Perspektive. Bei
  der exklusiven zweistündigen Führung haben Sie die seltene Gelegenheit\
 , hinter die Kulissen des Rathauses zu blicken.\n\nBevor das besondere Hig
 hlight\, der Aufstieg auf den Rathausturm\, auf Sie wartet\, führt Sie de
 r erfahrene Gästeführer durch die historische Altstadt. Im Anschluss gen
 ießen Sie einen beeindruckenden Blick über die Stadt Senftenberg.\n\nKon
 takt:\n\nTouristinformation Senftenberg\nMarkt 1\n01968 Senftenberg\nTelef
 on: +49 03573 1499010\nEmail: senftenberg@lausitzerseenland.de\n\nWeitere 
 Informationen zur Veranstaltung: http://test.reiseregion-flaeming.de/veran
 staltung/lausitzer-seenland/steigen-sie-dem-senftenberger-rathaus-auf-das-
 dach
CATEGORIES:Führung / Besichtigung
DTSTAMP:20260421T110536Z
END:VEVENT
BEGIN:VEVENT
UID:69e75a0061c95
DTSTART:20260828T090000Z
SEQUENCE:0
TRANSP:OPAQUE
DTEND:20260828T110000Z
URL:http://test.reiseregion-flaeming.de/veranstaltung/lausitzer-seenland/st
 eigen-sie-dem-senftenberger-rathaus-auf-das-dach
LOCATION:Rathaus Senftenberg\, Markt 1\, 01968 Senftenberg
X-APPLE-STRUCTURED-LOCATION;VALUE=URI;X-ADDRESS="Rathaus Senftenberg, Markt
  1, 01968 Senftenberg";X-APPLE-RADIUS=49;X-TITLE=Rathaus Senftenberg:geo:1
 4.004661,51.518813
GEO:14.004661;51.518813
SUMMARY:Steigen Sie dem Senftenberger Rathaus auf das Dach
CLASS:PUBLIC
DESCRIPTION:Tauchen Sie ein in die faszinierende Geschichte der Stadt Senft
 enberg und entdecken Sie das Rathaus aus einer ganz neuen Perspektive. Bei
  der exklusiven zweistündigen Führung haben Sie die seltene Gelegenheit\
 , hinter die Kulissen des Rathauses zu blicken.\n\nBevor das besondere Hig
 hlight\, der Aufstieg auf den Rathausturm\, auf Sie wartet\, führt Sie de
 r erfahrene Gästeführer durch die historische Altstadt. Im Anschluss gen
 ießen Sie einen beeindruckenden Blick über die Stadt Senftenberg.\n\nKon
 takt:\n\nTouristinformation Senftenberg\nMarkt 1\n01968 Senftenberg\nTelef
 on: +49 03573 1499010\nEmail: senftenberg@lausitzerseenland.de\n\nWeitere 
 Informationen zur Veranstaltung: http://test.reiseregion-flaeming.de/veran
 staltung/lausitzer-seenland/steigen-sie-dem-senftenberger-rathaus-auf-das-
 dach
CATEGORIES:Führung / Besichtigung
DTSTAMP:20260421T110536Z
END:VEVENT
END:VCALENDAR