BEGIN:VCALENDAR
VERSION:2.0
PRODID:test.reiseregion-flaeming.de
BEGIN:VEVENT
UID:69e7884b551e9
DTSTART:20260701T163000Z
SEQUENCE:0
TRANSP:OPAQUE
DTEND:20260701T183000Z
URL:http://test.reiseregion-flaeming.de/veranstaltung/spreewald/mittwochski
 no-im-bahnhof-5
LOCATION:Justus Delbrück Haus Bahnhof Jamlitz\, Am Bahnhof 1\, 15868 Jamli
 tz
X-APPLE-STRUCTURED-LOCATION;VALUE=URI;X-ADDRESS="Justus Delbrück Haus Bahn
 hof Jamlitz, Am Bahnhof 1, 15868 Jamlitz";X-APPLE-RADIUS=49;X-TITLE=Justus
  Delbrück Haus Bahnhof Jamlitz:geo:14.370834,51.992647
GEO:14.370834;51.992647
SUMMARY:Mittwochskino im Bahnhof
CLASS:PUBLIC
DESCRIPTION:**\"One for the road\"**\n\nDeutschland 2023 -  Alkoholiker-Dra
 mödie mit Frederick Lau\, Nora Tschirner und mit einer Wette\, dem Suff z
 u entsagen -  die natürlich nicht gewonnen werden kann.\n\nKontakt:\n\nBi
 ldungsstätte Jamlitz Karuna e.V.\nAm Bahnhof 1\n15868 Jamlitz\nTelefon: +
 49 0162 4304693\nEmail: jamlitz@karuna-ev.de\n\nWeitere Informationen zur 
 Veranstaltung: http://test.reiseregion-flaeming.de/veranstaltung/spreewald
 /mittwochskino-im-bahnhof-5
CATEGORIES:Film
DTSTAMP:20260421T142307Z
END:VEVENT
END:VCALENDAR