BEGIN:VCALENDAR
VERSION:2.0
PRODID:test.reiseregion-flaeming.de
BEGIN:VEVENT
UID:69e4c507b2c8f
DTSTART:20260603T163000Z
SEQUENCE:0
TRANSP:OPAQUE
DTEND:20260603T183000Z
URL:http://test.reiseregion-flaeming.de/veranstaltung/spreewald/mittwochski
 no-im-bahnhof-4
LOCATION:Justus Delbrück Haus Bahnhof Jamlitz\, Am Bahnhof 1\, 15868 Jamli
 tz
X-APPLE-STRUCTURED-LOCATION;VALUE=URI;X-ADDRESS="Justus Delbrück Haus Bahn
 hof Jamlitz, Am Bahnhof 1, 15868 Jamlitz";X-APPLE-RADIUS=49;X-TITLE=Justus
  Delbrück Haus Bahnhof Jamlitz:geo:14.370834,51.992647
GEO:14.370834;51.992647
SUMMARY:Mittwochskino im Bahnhof
CLASS:PUBLIC
DESCRIPTION:**\"Once upon a time in Hollywood\"**\n\nHollywood 2016 - In se
 inem angeblich vorletzten Werk vor dem geplanten Karriereende präsentiert
  Quentin Tarantino eine Art Quersumme seines bisherigen Schaffens und feie
 rt die goldenen Zeiten Hollywood in einem Feuerwerk aus Zitaten und Filmne
 rdtum.\n\nKontakt:\n\nBildungsstätte Jamlitz Karuna e.V.\nAm Bahnhof 1\n1
 5868 Jamlitz\nTelefon: +49 0162 4304693\nEmail: jamlitz@karuna-ev.de\n\nWe
 itere Informationen zur Veranstaltung: http://test.reiseregion-flaeming.de
 /veranstaltung/spreewald/mittwochskino-im-bahnhof-4
CATEGORIES:Film
DTSTAMP:20260419T120527Z
END:VEVENT
END:VCALENDAR