BEGIN:VCALENDAR
VERSION:2.0
PRODID:test.reiseregion-flaeming.de
BEGIN:VEVENT
UID:69e7455236c34
DTSTART:20260912T173000Z
SEQUENCE:0
TRANSP:OPAQUE
DTEND:20260912T200000Z
URL:http://test.reiseregion-flaeming.de/veranstaltung/seenland-oder-spree/g
 astspiel-ingo-oschmann-herzscherz
LOCATION:Die Oderhähne (Satirisches Theater und Kabarett e.V.)\, Marktplat
 z 3\, 15230 Frankfurt (Oder)
X-APPLE-STRUCTURED-LOCATION;VALUE=URI;X-ADDRESS="Die Oderhähne (Satirische
 s Theater und Kabarett e.V.), Marktplatz 3, 15230 Frankfurt (Oder)";X-APPL
 E-RADIUS=49;X-TITLE=Die Oderhähne (Satirisches Theater und Kabarett e.V.)
 :geo:14.553259,52.344450
GEO:14.553259;52.344450
SUMMARY:Gastspiel: Ingo Oschmann - Herzscherz
CLASS:PUBLIC
DESCRIPTION:Der beliebte Comedian ist zurück! Mit seinem neuen Programm **
 „HerzScherz“** präsentiert Ingo Oschmann eine gelungene Mischung aus 
 Stand-up\, Kabarett\, Emotion und Zauberkunst. Mit Charme und Witz spricht
  er über Liebe\, Familie und die kleinen Tücken des Alltags – ehrlich\
 , warmherzig und voller Lebensfreude. Wie ein guter Freund plaudert er mit
  dem Publikum und sorgt für Lacher\, Leichtigkeit und gute Stimmung. Ein 
 Abend voller Humor\, Herz und überraschender Momente – echt Oschmann\, 
 echt lebensnah!\n\nKontakt:\n\nDie Oderhähne (Satirisches Theater und Kab
 arett e.V. )\nMarktplatz 1\n15230 Frankfurt (Oder)\nTelefon: +49 335 2 37 
 23\nEmail: info@oderhaehne.de\nWebseite: https://www.oderhaehne.de\n\nWeit
 ere Informationen zur Veranstaltung: http://test.reiseregion-flaeming.de/v
 eranstaltung/seenland-oder-spree/gastspiel-ingo-oschmann-herzscherz
CATEGORIES:Theater / Tanz / Kabarett
DTSTAMP:20260421T093722Z
END:VEVENT
END:VCALENDAR