BEGIN:VCALENDAR
VERSION:2.0
PRODID:test.reiseregion-flaeming.de
BEGIN:VEVENT
UID:69e4c5267ef78
DTSTART:20260704T173000Z
SEQUENCE:0
TRANSP:OPAQUE
DTEND:20260704T200000Z
URL:http://test.reiseregion-flaeming.de/veranstaltung/seenland-oder-spree/g
 astspiel-ausbilder-schmidt-unkraut-vergeht-nicht
LOCATION:Haus der Künste\, Lindenstraße  5\, 15230 Frankfurt (Oder)
X-APPLE-STRUCTURED-LOCATION;VALUE=URI;X-ADDRESS="Haus der Künste, Lindenst
 raße  5, 15230 Frankfurt (Oder)";X-APPLE-RADIUS=49;X-TITLE=Haus der Küns
 te:geo:14.551723,52.340373
GEO:14.551723;52.340373
SUMMARY:Gastspiel: Ausbilder Schmidt - Unkraut vergeht nicht
CLASS:PUBLIC
DESCRIPTION:Unkraut ist eigenwilliger Wildwuchs – das darf bleiben und ko
 mmt dann erst so richtig mit den Jahren zur Voll-Blüte !? Selbstverständ
 lich. Wenn ein Comedian seit 25 Jahre erfolgreich auf Tour ist\, dann ist 
 der Spaßfaktor hoch. Und das kann Ausbilder Schmidt (Holger Müller) am b
 esten:    \nSein Publikum 2 Stunden zum Lachen bringen. Einfach mal wieder
  abschalten und Spaß haben. Gönn Dir das!   \n  \nDas Beste aus 25 Jahre
 n und viele neue Nummern. Ausbilder Schmidt\, du musst es erlebt haben.   
  \nOder willst du immer eine Lusche bleiben…?\n\nKontakt:\n\nDie Oderhä
 hne (Satirisches Theater und Kabarett e.V. )\nMarktplatz 1\n15230 Frankfur
 t (Oder)\nTelefon: +49 335 2 37 23\nEmail: info@oderhaehne.de\nWebseite: h
 ttps://www.oderhaehne.de\n\nWeitere Informationen zur Veranstaltung: http:
 //test.reiseregion-flaeming.de/veranstaltung/seenland-oder-spree/gastspiel
 -ausbilder-schmidt-unkraut-vergeht-nicht
CATEGORIES:Theater / Tanz / Kabarett
DTSTAMP:20260419T120558Z
END:VEVENT
BEGIN:VEVENT
UID:69e4c526aab91
DTSTART:20260705T150000Z
SEQUENCE:0
TRANSP:OPAQUE
DTEND:20260705T173000Z
URL:http://test.reiseregion-flaeming.de/veranstaltung/seenland-oder-spree/g
 astspiel-ausbilder-schmidt-unkraut-vergeht-nicht
LOCATION:Haus der Künste\, Lindenstraße  5\, 15230 Frankfurt (Oder)
X-APPLE-STRUCTURED-LOCATION;VALUE=URI;X-ADDRESS="Haus der Künste, Lindenst
 raße  5, 15230 Frankfurt (Oder)";X-APPLE-RADIUS=49;X-TITLE=Haus der Küns
 te:geo:14.551723,52.340373
GEO:14.551723;52.340373
SUMMARY:Gastspiel: Ausbilder Schmidt - Unkraut vergeht nicht
CLASS:PUBLIC
DESCRIPTION:Unkraut ist eigenwilliger Wildwuchs – das darf bleiben und ko
 mmt dann erst so richtig mit den Jahren zur Voll-Blüte !? Selbstverständ
 lich. Wenn ein Comedian seit 25 Jahre erfolgreich auf Tour ist\, dann ist 
 der Spaßfaktor hoch. Und das kann Ausbilder Schmidt (Holger Müller) am b
 esten:    \nSein Publikum 2 Stunden zum Lachen bringen. Einfach mal wieder
  abschalten und Spaß haben. Gönn Dir das!   \n  \nDas Beste aus 25 Jahre
 n und viele neue Nummern. Ausbilder Schmidt\, du musst es erlebt haben.   
  \nOder willst du immer eine Lusche bleiben…?\n\nKontakt:\n\nDie Oderhä
 hne (Satirisches Theater und Kabarett e.V. )\nMarktplatz 1\n15230 Frankfur
 t (Oder)\nTelefon: +49 335 2 37 23\nEmail: info@oderhaehne.de\nWebseite: h
 ttps://www.oderhaehne.de\n\nWeitere Informationen zur Veranstaltung: http:
 //test.reiseregion-flaeming.de/veranstaltung/seenland-oder-spree/gastspiel
 -ausbilder-schmidt-unkraut-vergeht-nicht
CATEGORIES:Theater / Tanz / Kabarett
DTSTAMP:20260419T120558Z
END:VEVENT
END:VCALENDAR