BEGIN:VCALENDAR
VERSION:2.0
PRODID:test.reiseregion-flaeming.de
BEGIN:VEVENT
UID:69e74570934b4
DTSTART:20260621T090000Z
SEQUENCE:0
TRANSP:OPAQUE
DTEND:20260622T080000Z
URL:http://test.reiseregion-flaeming.de/veranstaltung/prignitz/fete-de-la-m
 usique-lenzen
LOCATION:Fête de la Musique\, Lenzen\,  
X-APPLE-STRUCTURED-LOCATION;VALUE=URI;X-ADDRESS="Fête de la Musique, Lenze
 n,  ";X-APPLE-RADIUS=49;X-TITLE="Fête de la Musique, Lenzen":geo:11.47773
 1,53.093949
GEO:11.477731;53.093949
SUMMARY:Fête de la Musique LENZEN
CLASS:PUBLIC
DESCRIPTION:**„Fête de la Musique“** \, **L E N Z E N\,** \"Das Fest d
 er Musik\"\n\n Von 11 bis 11 - Vom See bis zum Fluss  und   q u e r    d u
  r c h   d i e   S t a d t\n\nvon morgens bis in die Nacht werden quer dur
 ch die Stadt an elf verschiedenen Orten Musiker auftreten\, keine große B
 ühnenshow\, sondern kleine Straßenkonzerte. Zum Schluss sammeln sich die
  Musiker und Gäste am Hafen an der Elbe und feiern mit Musik bis zum Sonn
 enuntergang.\n\nKontakt:\n\nGalerie SEETOR.art\nSeetorstraße 9\n19309 Len
 zen\nTelefon: +49 38792 913821\nEmail: kontakt@seetor.art\nWebseite: https
 ://seetor.art\n\nWeitere Informationen zur Veranstaltung: http://test.reis
 eregion-flaeming.de/veranstaltung/prignitz/fete-de-la-musique-lenzen
CATEGORIES:Rock / Pop / Jazz,Chor / Folklore / Volksmusik,Klassisches Konze
 rt / Oper,Fest / Brauchtum
DTSTAMP:20260421T093752Z
END:VEVENT
END:VCALENDAR