BEGIN:VCALENDAR
VERSION:2.0
PRODID:test.reiseregion-flaeming.de
BEGIN:VEVENT
UID:69e77e47246d4
DTSTART:20261031T150000Z
SEQUENCE:0
TRANSP:OPAQUE
DTEND:20261031T190000Z
URL:http://test.reiseregion-flaeming.de/veranstaltung/lausitzer-seenland/ha
 lloween-im-zoo
LOCATION:Zoo Hoyerswerda\, Am Haag 20\, 02977 Hoyerswerda
X-APPLE-STRUCTURED-LOCATION;VALUE=URI;X-ADDRESS="Zoo Hoyerswerda, Am Haag 2
 0, 02977 Hoyerswerda";X-APPLE-RADIUS=49;X-TITLE=Zoo Hoyerswerda:geo:14.248
 575,51.439620
GEO:14.248575;51.439620
SUMMARY:Halloween im Zoo
CLASS:PUBLIC
DESCRIPTION:Wenn der Geisternebel über die Zoowiese zieht und es im Schlos
 skeller raschelt\, dann ist wieder Halloween in Zoo & Schloss Hoyerswerda!
 \n\nAM 31. OKTOBER erwartet euch ein schaurig-schönes Programm für Groß
  & Klein:\n\nKiddie-Parcours & Gruselbasteln auf der alten Kamelanlage\n\n
 Gruselkeller für die Kleinen im Schlosskeller\n\nTierpräparator & Fleder
 mäuse live erleben\n\nStelzenkünstler\, Hüpfburg-Lokomotive im Geistern
 ebel\n\nSchaurige Lichtmomente auf der gesamten Anlage\n\nHexenstunde im S
 chlosshof\n\nSüßes & Herzhaftes auf der Zoowiese und im Schlossinnenhof\
 n\nHighlights: Gruselkabinett für die Großen im Schlosssaal & 19 UHR Feu
 ershow auf der Zoowiese – das große Finale!\n\nKontakt:\n\nZoo Hoyerswe
 rda\nAm Haag 20\n02977 Hoyerswerda\nTelefon: +49 3571 20937700\nEmail: zoo
 @zookultur.de\nWebseite: https://kulturzoo-hy.de/\n\nWeitere Informationen
  zur Veranstaltung: http://test.reiseregion-flaeming.de/veranstaltung/laus
 itzer-seenland/halloween-im-zoo
CATEGORIES:Fest / Brauchtum,Kinder und Jugendliche
DTSTAMP:20260421T134023Z
END:VEVENT
END:VCALENDAR