BEGIN:VCALENDAR
VERSION:2.0
PRODID:test.reiseregion-flaeming.de
BEGIN:VEVENT
UID:69e77dca10274
DTSTART:20261003T090000Z
SEQUENCE:0
TRANSP:OPAQUE
DTEND:20261003T150000Z
URL:http://test.reiseregion-flaeming.de/veranstaltung/lausitzer-seenland/du
 nkle-kuenste-helle-magie
LOCATION:Schloss und Stadtmuseum Hoyerswerda\, Schloßplatz 1\, 02977 Hoyer
 swerda
X-APPLE-STRUCTURED-LOCATION;VALUE=URI;X-ADDRESS="Schloss und Stadtmuseum Ho
 yerswerda, Schloßplatz 1, 02977 Hoyerswerda";X-APPLE-RADIUS=49;X-TITLE=Sc
 hloss und Stadtmuseum Hoyerswerda:geo:14.247075,51.438320
GEO:14.247075;51.438320
SUMMARY:Dunkle Künste – Helle Magie
CLASS:PUBLIC
DESCRIPTION:**Dunkle Künste – Helle Magie**\n\nAm **3\\. Oktober 2026** 
  wird es magisch im Schloss & Zoo Hoyerswerda!  \n \n\nVon **11 bis 17 Uhr
 ** laden wir kleine Hexen\, Zauberer und ihre Familien zu einem abwechslun
 gsreichen Programm voller Fantasie und Abenteuer ein.\n\n„Die Zauberschu
 le beginnt jetzt!“ Tausche ein in magische Unterrichtsfächer wie z.B. Z
 aubertränke\, Verteidigung gegen die dunklen Künste\, Besenflug\, Astron
 omie\, Runenkunde und viele weitere spannende Fächer.\n\nDamit all die Za
 uberei nicht zu viel Kraft kostet\, wartet unser **buntes Buffet** auf hun
 grige Zauberlehrlinge und ihre Familien.\n\n \n\nDenkt bitte an ein paar M
 ünzen\, um keine unserer großartigen Angebote zu verpassen.\n\nUnd das B
 este: Mit jedem Tagesticket für Schloss & Zoo bekommt ihr von uns ein kle
 ines „Startschulgeld“ – goldene Nuggets als Geschenk!\n\nKontakt:\n\
 nSchloss und Stadtmuseum Hoyerswerda\nSchloßplatz 1\n02977 Hoyerswerda\nT
 elefon: +49 03571 20937500\nEmail: info@museum-hy.de\nWebseite: https://mu
 seum-hy.de\n\nWeitere Informationen zur Veranstaltung: http://test.reisere
 gion-flaeming.de/veranstaltung/lausitzer-seenland/dunkle-kuenste-helle-mag
 ie
CATEGORIES:Fest / Brauchtum,Kinder und Jugendliche
DTSTAMP:20260421T133818Z
END:VEVENT
END:VCALENDAR