BEGIN:VCALENDAR
VERSION:2.0
PRODID:test.reiseregion-flaeming.de
BEGIN:VEVENT
UID:69e76c51b7560
DTSTART:20260607T080000Z
SEQUENCE:0
TRANSP:OPAQUE
DTEND:20260607T160000Z
URL:http://test.reiseregion-flaeming.de/veranstaltung/lausitzer-seenland/st
 adtkindertag
LOCATION:Zoo Hoyerswerda\, Am Haag 20\, 02977 Hoyerswerda
X-APPLE-STRUCTURED-LOCATION;VALUE=URI;X-ADDRESS="Zoo Hoyerswerda, Am Haag 2
 0, 02977 Hoyerswerda";X-APPLE-RADIUS=49;X-TITLE=Zoo Hoyerswerda:geo:14.248
 575,51.439620
GEO:14.248575;51.439620
SUMMARY:Stadtkindertag
CLASS:PUBLIC
DESCRIPTION:Von 10 bis 18 Uhr gibt es auf dem sechs Hektar großen Areal ri
 esig viel zu erleben.\n\nFür alle Mutigen und Abenteuerlustigen stehen an
  diesem Tag tierische Hüpfburgen\, eine Riesenkugel-Hindernisbahn\, eine 
 zehn Meter hohe Riesenrutsche\, ein Surf-Simulator und ein Reiterhof mit P
 lüschpferden bereit. Außerdem zaubert die Seifenblasenkünstlerin Queenb
 ubbles bunt schimmernde Kunstwerke. Es gibt Airbrush-Tattoos und verschied
 ene Bastelangebote. Für die ganz Kleinen steht beim Stadtkindertag ein Be
 reich mit Hüpftieren\, Mini-Hüpf-Schildkröte und einem Holzspielplatz r
 und ums Thema Zoo zur Verfügung.\n\nKontakt:\n\nZoo Hoyerswerda\nAm Haag 
 20\n02977 Hoyerswerda\nTelefon: \nEmail: \nWebseite: https://kulturzoo-hy.
 de/\n\nWeitere Informationen zur Veranstaltung: http://test.reiseregion-fl
 aeming.de/veranstaltung/lausitzer-seenland/stadtkindertag
CATEGORIES:Fest / Brauchtum
DTSTAMP:20260421T122345Z
END:VEVENT
END:VCALENDAR