BEGIN:VCALENDAR
VERSION:2.0
PRODID:test.reiseregion-flaeming.de
BEGIN:VEVENT
UID:69e7b1f960c54
DTSTART:20260916T120000Z
SEQUENCE:0
TRANSP:OPAQUE
DTEND:20260916T160000Z
URL:http://test.reiseregion-flaeming.de/veranstaltung/barnimer-land/bernaue
 r-gesundheitstag-2026
LOCATION:Bernauer Marktplatz\, Am Marktplatz\, 16321 Bernau bei Berlin
X-APPLE-STRUCTURED-LOCATION;VALUE=URI;X-ADDRESS="Bernauer Marktplatz, Am Ma
 rktplatz, 16321 Bernau bei Berlin";X-APPLE-RADIUS=49;X-TITLE=Bernauer Mark
 tplatz:geo:13.587967,52.679538
GEO:13.587967;52.679538
SUMMARY:Bernauer Gesundheitstag 2026
CLASS:PUBLIC
DESCRIPTION:Gesundheit geht uns alle an – deshalb lädt die Stadt Bernau 
 erneut zum Gesundheitstag ein. Mit einem neuen Schwerpunkt\, vielen Mitmac
 hangeboten und Aktionen für Groß und Klein wird der Gesundheitstag auch 
 dieses Jahr zu einem lebendigen Treffpunkt für alle Bernauerinnen und Ber
 nauer.\n\nKontakt:\n\nPressestelle der Stadtverwaltung Bernau bei Berlin\n
 Bürgermeisterstraße 25\n16321 Bernau bei Berlin\nTelefon: +49 3338 36512
 0\nEmail: pressestelle@bernau-bei-berlin.de\nWebseite: https://www.best-be
 rnau.de/veranstaltungen/bernauer-gesundheitstag-2026.html\n\nWeitere Infor
 mationen zur Veranstaltung: http://test.reiseregion-flaeming.de/veranstalt
 ung/barnimer-land/bernauer-gesundheitstag-2026
CATEGORIES:Markt,Wellness / Gesundheit
DTSTAMP:20260421T172057Z
END:VEVENT
END:VCALENDAR