BEGIN:VCALENDAR
VERSION:2.0
PRODID:test.reiseregion-flaeming.de
BEGIN:VEVENT
UID:69e76c6639eab
DTSTART:20260510T100000Z
SEQUENCE:0
TRANSP:OPAQUE
DTEND:20260510T160000Z
URL:http://test.reiseregion-flaeming.de/veranstaltung/lausitzer-seenland/in
 ternationaler-museumstag
LOCATION:Schloss und Stadtmuseum Hoyerswerda\, Schloßplatz 1\, 02977 Hoyer
 swerda
X-APPLE-STRUCTURED-LOCATION;VALUE=URI;X-ADDRESS="Schloss und Stadtmuseum Ho
 yerswerda, Schloßplatz 1, 02977 Hoyerswerda";X-APPLE-RADIUS=49;X-TITLE=Sc
 hloss und Stadtmuseum Hoyerswerda:geo:14.247075,51.438320
GEO:14.247075;51.438320
SUMMARY:Internationaler Museumstag
CLASS:PUBLIC
DESCRIPTION:Am **Sonntag\, den 10. Mai 2025** \, verwandelt sich das Museum
 sgelände des Schloss & Stadtmuseum Hoyerswerda von **12 bis 18 Uhr** in e
 inen kleinen **historischen Jahrmarkt** \, der Jung und Alt auf eine nosta
 lgische Reise mitnimmt. Das Museumsfest bietet ein buntes Programm mit lie
 bevoll gestalteten Attraktionen\, das Erinnerungen an vergangene Zeiten we
 ckt und neue schafft.\n\n \n\nWeitere Informationen unter: museum-hy.de\n\
 nKontakt:\n\nSchloss und Stadtmuseum Hoyerswerda\nSchloßplatz 1\n02977 Ho
 yerswerda\nTelefon: +49 03571 20937500\nEmail: info@museum-hy.de\nWebseite
 : https://museum-hy.de\n\nWeitere Informationen zur Veranstaltung: http://
 test.reiseregion-flaeming.de/veranstaltung/lausitzer-seenland/internationa
 ler-museumstag
CATEGORIES:Fest / Brauchtum,Kinder und Jugendliche
DTSTAMP:20260421T122407Z
END:VEVENT
END:VCALENDAR