BEGIN:VCALENDAR
VERSION:2.0
PRODID:test.reiseregion-flaeming.de
BEGIN:VEVENT
UID:69e4e42087953
DTSTART:20260424T100000Z
SEQUENCE:0
TRANSP:OPAQUE
DTEND:20260424T150000Z
URL:http://test.reiseregion-flaeming.de/veranstaltung/lausitzer-seenland/tr
 ainingscamp-selbststaendigkeit-der-hwk-dresden-am-baerwalder-see
LOCATION:SKAN-PARK\, Am Hafen  7\, 02943 Boxberg OL
X-APPLE-STRUCTURED-LOCATION;VALUE=URI;X-ADDRESS="SKAN-PARK, Am Hafen  7, 02
 943 Boxberg OL";X-APPLE-RADIUS=49;X-TITLE=SKAN-PARK:geo:14.561857,51.35773
 1
GEO:14.561857;51.357731
SUMMARY:Trainingscamp \"Selbstständigkeit\" der HWK Dresden am Bärwalder 
 See
CLASS:PUBLIC
DESCRIPTION:Mach´s richtig: Deine Gründungsidee - handfest und zukunftssi
 cher\n\nIm Trainingscamp unterstützen wir dich bei der Entwicklung einer 
 tragfähigen Geschäftsidee. Wir helfen dir\, diese zu schärfen\, Stolper
 steine zu erkennen und konkrete Schritte zu planen. Am Ende hältst du dei
 ne persönliche Roadmap in der Hand\, die dir dabei helfen soll\, deinen e
 igenen Weg im Handwerk zu gehen.\n\nKontakt:\n\nHandwerkskammer Dresden\nA
 nna-Marie Hillen\nAm Lagerplatz 8\n01099 Dresden\nTelefon: +49 351 4640-30
 \nEmail: info@hwk-dresden.de\nWebseite: http://www.hwk-dresden.de/\n\nWeit
 ere Informationen zur Veranstaltung: http://test.reiseregion-flaeming.de/v
 eranstaltung/lausitzer-seenland/trainingscamp-selbststaendigkeit-der-hwk-d
 resden-am-baerwalder-see
CATEGORIES:Workshop / Seminar
DTSTAMP:20260419T141808Z
END:VEVENT
BEGIN:VEVENT
UID:69e4e420983d7
DTSTART:20260425T070000Z
SEQUENCE:0
TRANSP:OPAQUE
DTEND:20260425T170000Z
URL:http://test.reiseregion-flaeming.de/veranstaltung/lausitzer-seenland/tr
 ainingscamp-selbststaendigkeit-der-hwk-dresden-am-baerwalder-see
LOCATION:SKAN-PARK\, Am Hafen  7\, 02943 Boxberg OL
X-APPLE-STRUCTURED-LOCATION;VALUE=URI;X-ADDRESS="SKAN-PARK, Am Hafen  7, 02
 943 Boxberg OL";X-APPLE-RADIUS=49;X-TITLE=SKAN-PARK:geo:14.561857,51.35773
 1
GEO:14.561857;51.357731
SUMMARY:Trainingscamp \"Selbstständigkeit\" der HWK Dresden am Bärwalder 
 See
CLASS:PUBLIC
DESCRIPTION:Mach´s richtig: Deine Gründungsidee - handfest und zukunftssi
 cher\n\nIm Trainingscamp unterstützen wir dich bei der Entwicklung einer 
 tragfähigen Geschäftsidee. Wir helfen dir\, diese zu schärfen\, Stolper
 steine zu erkennen und konkrete Schritte zu planen. Am Ende hältst du dei
 ne persönliche Roadmap in der Hand\, die dir dabei helfen soll\, deinen e
 igenen Weg im Handwerk zu gehen.\n\nKontakt:\n\nHandwerkskammer Dresden\nA
 nna-Marie Hillen\nAm Lagerplatz 8\n01099 Dresden\nTelefon: +49 351 4640-30
 \nEmail: info@hwk-dresden.de\nWebseite: http://www.hwk-dresden.de/\n\nWeit
 ere Informationen zur Veranstaltung: http://test.reiseregion-flaeming.de/v
 eranstaltung/lausitzer-seenland/trainingscamp-selbststaendigkeit-der-hwk-d
 resden-am-baerwalder-see
CATEGORIES:Workshop / Seminar
DTSTAMP:20260419T141808Z
END:VEVENT
END:VCALENDAR