BEGIN:VCALENDAR
VERSION:2.0
PRODID:test.reiseregion-flaeming.de
BEGIN:VEVENT
UID:69e4e3fa6dd7f
DTSTART:20260514T060000Z
SEQUENCE:0
TRANSP:OPAQUE
DTEND:20260514T200000Z
URL:http://test.reiseregion-flaeming.de/veranstaltung/lausitzer-seenland/ma
 ennertag-im-park
LOCATION:Parkschlösschen Klitten\, Sraße der Jugend\, 02943 Boxberg
X-APPLE-STRUCTURED-LOCATION;VALUE=URI;X-ADDRESS="Parkschlösschen Klitten, 
 Sraße der Jugend, 02943 Boxberg";X-APPLE-RADIUS=49;X-TITLE=Parkschlössch
 en Klitten:geo:14.595225,51.351805
GEO:14.595225;51.351805
SUMMARY:Männertag im Park
CLASS:PUBLIC
DESCRIPTION:Wir laden ein im Park Klitten zu verweilen. Für Speisen und Ge
 tränke ist ausreichend gesorgt.\n\nKontakt:\n\nHeimatverein Klitten e.V.\
 nPhillip Weigert\n\n \nTelefon: +49 172 6184875\nEmail: heimatverein.klitt
 en@gmail.com\n\nWeitere Informationen zur Veranstaltung: http://test.reise
 region-flaeming.de/veranstaltung/lausitzer-seenland/maennertag-im-park
CATEGORIES:Fest / Brauchtum
DTSTAMP:20260419T141730Z
END:VEVENT
END:VCALENDAR