BEGIN:VCALENDAR
VERSION:2.0
PRODID:test.reiseregion-flaeming.de
BEGIN:VEVENT
UID:69e7ac73de545
DTSTART:20260607T090000Z
SEQUENCE:0
TRANSP:OPAQUE
DTEND:20260607T140000Z
URL:http://test.reiseregion-flaeming.de/veranstaltung/barnimer-land/unesco-
 welterbetag-im-besucherzentrum-bernau
LOCATION:Besucherzentrum UNESCO-Welterbe Bauhaus in Bernau\, Hans-Wittwer-S
 traße 1\, 16321 Bernau bei Berlin
X-APPLE-STRUCTURED-LOCATION;VALUE=URI;X-ADDRESS="Besucherzentrum UNESCO-Wel
 terbe Bauhaus in Bernau, Hans-Wittwer-Straße 1, 16321 Bernau bei Berlin";
 X-APPLE-RADIUS=49;X-TITLE=Besucherzentrum UNESCO-Welterbe Bauhaus in Berna
 u:geo:13.542381,52.706324
GEO:13.542381;52.706324
SUMMARY:UNESCO-Welterbetag im Besucherzentrum Bernau
CLASS:PUBLIC
DESCRIPTION:„Gemeinsam für Frieden und Verständigung“\, so heißt das
  diesjährige Motto des Welterbetages\, zu dem die Deutsche UNESCO-Kommiss
 ion und der Verein UNESCO-Welterbestätten Deutschland am Sonntag\, den 7.
  Juni 2025 von 11 bis 16 Uhr einladen. An den verschiedenen Welterbestätt
 en des Landes werden themenbezogene Sonderveranstaltungen angeboten.\n\nAu
 ch das UNESCO-Welterbe Bauhaus und das dazugehörige Besucherzentrum Berna
 u beteiligen sich an diesem Tag.\n\nWeitere Informationen zum Programm fin
 den Sie in Kürze auf der Website des Besucherzentrums.\n\nKontakt:\n\nBes
 ucherzentrum UNESCO-Welterbe Bauhaus in Bernau\nHans-Wittwer-Straße 1\n16
 321 Bernau bei Berlin\nTelefon: +49 3338 7067879\nEmail: bauhaus@best-bern
 au.de\nWebseite: https://www.welterbe-bernau.de/start.html\n\nWeitere Info
 rmationen zur Veranstaltung: http://test.reiseregion-flaeming.de/veranstal
 tung/barnimer-land/unesco-welterbetag-im-besucherzentrum-bernau
CATEGORIES:Führung / Besichtigung
DTSTAMP:20260421T165724Z
END:VEVENT
END:VCALENDAR