BEGIN:VCALENDAR
VERSION:2.0
PRODID:test.reiseregion-flaeming.de
BEGIN:VEVENT
UID:69e7b2885ff06
DTSTART:20261002T160000Z
SEQUENCE:0
TRANSP:OPAQUE
DTEND:20261002T220000Z
URL:http://test.reiseregion-flaeming.de/veranstaltung/barnimer-land/herbsta
 usgabe-der-bernauer-lokaltour
LOCATION:Bernauer Innenstadt\, Bürgermeisterstraße\, 16321 Bernau bei Ber
 lin
X-APPLE-STRUCTURED-LOCATION;VALUE=URI;X-ADDRESS="Bernauer Innenstadt, Bürg
 ermeisterstraße, 16321 Bernau bei Berlin";X-APPLE-RADIUS=49;X-TITLE=Berna
 uer Innenstadt:geo:13.587638,52.678752
GEO:13.587638;52.678752
SUMMARY:Herbstausgabe der Bernauer Lokaltour
CLASS:PUBLIC
DESCRIPTION:Am 2. Oktober 2026\, 18 bis 0 Uhr\, geht die Bernauer Lokaltour
  in eine weitere Runde und die Innenstadt wird erneut zu einer riesigen Op
 en-Air-Bühne. Hierfür laden die innerstädtischen Gastronom*innen zu Lec
 kereien\, Erfrischungen und Live-Musik sowie DJs unter freiem Himmel ein. 
 Wie im letzten Jahr\, werden die Veranstaltungsgebiete erneut abgesperrt u
 nd zu einzelnen Partyzonen erklärt.\n\nAlle Besucherinnen und Besucher er
 halten beim Einlass für einen Eintritt von sechs Euro ein Bändchen und k
 önnen damit innerhalb der Partyzonen wechseln.\n\nPräsentiert wird die H
 erbstausgabe der Lokaltour mit freundlicher Unterstützung der Märkischen
  Oderzeitung\, der Stadt Bernau bei Berlin und des Citymanagements der BeS
 t Bernauer Stadtmarketing GmbH.\n\nKontakt:\n\nBernauer Citymanagement\nB
 ürgermeisterstraße 4\n16321 Bernau bei Berlin\nTelefon: +49 03338 376592
 \nEmail: citymanagement@best-bernau.de\n\nWeitere Informationen zur Verans
 taltung: http://test.reiseregion-flaeming.de/veranstaltung/barnimer-land/h
 erbstausgabe-der-bernauer-lokaltour
DTSTAMP:20260421T172320Z
END:VEVENT
END:VCALENDAR