BEGIN:VCALENDAR
VERSION:2.0
PRODID:test.reiseregion-flaeming.de
BEGIN:VEVENT
UID:69e79f2b89bac
DTSTART:20260430T160000Z
SEQUENCE:0
TRANSP:OPAQUE
DTEND:20260430T220000Z
URL:http://test.reiseregion-flaeming.de/veranstaltung/barnimer-land/fruehja
 hrsausgabe-der-bernauer-lokaltour
LOCATION:Bernauer Innenstadt\, Bürgermeisterstraße\, 16321 Bernau bei Ber
 lin
X-APPLE-STRUCTURED-LOCATION;VALUE=URI;X-ADDRESS="Bernauer Innenstadt, Bürg
 ermeisterstraße, 16321 Bernau bei Berlin";X-APPLE-RADIUS=49;X-TITLE=Berna
 uer Innenstadt:geo:13.587638,52.678752
GEO:13.587638;52.678752
SUMMARY:Frühjahrsausgabe der Bernauer Lokaltour
CLASS:PUBLIC
DESCRIPTION:Am 30. April 2026\, 18 bis 0 Uhr\, geht die Bernauer Lokaltour 
 in eine neue Runde und die Innenstadt wird erneut zu einer riesigen Open-A
 ir-Bühne. Hierfür laden die innerstädtischen Gastronom*innen zu Leckere
 ien\, Erfrischungen und Live-Musik sowie DJs unter freiem Himmel ein. Wie 
 im letzten Jahr\, werden die Veranstaltungsgebiete erneut abgesperrt und z
 u einzelnen Partyzonen erklärt.\n\nAlle Besucherinnen und Besucher erhalt
 en beim Einlass für einen Eintritt von sechs Euro ein Bändchen und könn
 en damit innerhalb der Partyzonen wechseln.\n\nPräsentiert wird die Früh
 jahrsausgabe der Lokaltour mit freundlicher Unterstützung der Märkischen
  Oderzeitung\, der Stadt Bernau bei Berlin und des Citymanagements der BeS
 t Bernauer Stadtmarketing GmbH.\n\nKontakt:\n\nBernauer Citymanagement\nB
 ürgermeisterstraße 4\n16321 Bernau bei Berlin\nTelefon: +49 03338 376592
 \nEmail: citymanagement@best-bernau.de\n\nWeitere Informationen zur Verans
 taltung: http://test.reiseregion-flaeming.de/veranstaltung/barnimer-land/f
 ruehjahrsausgabe-der-bernauer-lokaltour
DTSTAMP:20260421T160043Z
END:VEVENT
END:VCALENDAR