BEGIN:VCALENDAR
VERSION:2.0
PRODID:test.reiseregion-flaeming.de
BEGIN:VEVENT
UID:69e769be1bd92
DTSTART:20260906T120000Z
SEQUENCE:0
TRANSP:OPAQUE
DTEND:20260906T140000Z
URL:http://test.reiseregion-flaeming.de/veranstaltung/lausitzer-seenland/so
 rbischer-nachmittag-im-findlingspark
LOCATION:Findlingspark Nochten\, Parkstr. 7\, 02943 Boxberg OT Nochten
X-APPLE-STRUCTURED-LOCATION;VALUE=URI;X-ADDRESS="Findlingspark Nochten, Par
 kstr. 7, 02943 Boxberg OT Nochten";X-APPLE-RADIUS=49;X-TITLE=Findlingspark
  Nochten:geo:14.603610,51.437717
GEO:14.603610;51.437717
SUMMARY:Sorbischer Nachmittag im Findlingspark
CLASS:PUBLIC
DESCRIPTION:Ein musikalischer Nachmittag mit dem Sorbischen Nationalensembl
 e unter dem Motto „von Dudelsack bis Tarakawa“\n\nKontakt:\n\nFindling
 spark Nochten\nParkstr. 7\n02943 Boxberg OT Nochten\nTelefon: +49 035774 5
 56352\nEmail: info@findlingspark-nochten.de\n\nWeitere Informationen zur V
 eranstaltung: http://test.reiseregion-flaeming.de/veranstaltung/lausitzer-
 seenland/sorbischer-nachmittag-im-findlingspark
CATEGORIES:Chor / Folklore / Volksmusik
DTSTAMP:20260421T121246Z
END:VEVENT
END:VCALENDAR