BEGIN:VCALENDAR
VERSION:2.0
PRODID:test.reiseregion-flaeming.de
BEGIN:VEVENT
UID:69e79c8c957d7
DTSTART:20260524T083000Z
SEQUENCE:0
TRANSP:OPAQUE
DTEND:20260524T130000Z
URL:http://test.reiseregion-flaeming.de/veranstaltung/lausitzer-seenland/pf
 ingstbrunch-am-sonntag
LOCATION:Restaurant Rosenflair\, Wehrinselstraße 46\, 03149 Forst (Lausitz
 )
X-APPLE-STRUCTURED-LOCATION;VALUE=URI;X-ADDRESS="Restaurant Rosenflair, Weh
 rinselstraße 46, 03149 Forst (Lausitz)";X-APPLE-RADIUS=49;X-TITLE=Restaur
 ant Rosenflair:geo:14.663721,51.728766
GEO:14.663721;51.728766
SUMMARY:Pfingstbrunch am Sonntag
CLASS:PUBLIC
DESCRIPTION:Die Gäste erwartet ein vielfältiges Frühstücksbuffet mit ka
 lten und warmen Speisen\, ergänzt durch eine Auswahl an frischem Kuchen. 
 Filterkaffee sowie Wasser (still und sprudelnd) sind im Angebot enthalten.
 \n\nKontakt:\n\nRestaurant Rosenflair\nWehrinselstraße 46\n03149 Forst (L
 ausitz)\nTelefon: +49 3562 69 77 24\nEmail: info@rosenflair-forst.de\nWebs
 eite: https://www.rosenflair-forst.de\n\nWeitere Informationen zur Veranst
 altung: http://test.reiseregion-flaeming.de/veranstaltung/lausitzer-seenla
 nd/pfingstbrunch-am-sonntag
CATEGORIES:Essen und Trinken
DTSTAMP:20260421T154932Z
END:VEVENT
END:VCALENDAR