BEGIN:VCALENDAR
VERSION:2.0
PRODID:test.reiseregion-flaeming.de
BEGIN:VEVENT
UID:69e754219f5f1
DTSTART:20260510T083000Z
SEQUENCE:0
TRANSP:OPAQUE
DTEND:20260510T130000Z
URL:http://test.reiseregion-flaeming.de/veranstaltung/lausitzer-seenland/mu
 ttertagsbrunch
LOCATION:Restaurant Rosenflair\, Wehrinselstraße 46\, 03149 Forst (Lausitz
 )
X-APPLE-STRUCTURED-LOCATION;VALUE=URI;X-ADDRESS="Restaurant Rosenflair, Weh
 rinselstraße 46, 03149 Forst (Lausitz)";X-APPLE-RADIUS=49;X-TITLE=Restaur
 ant Rosenflair:geo:14.663721,51.728766
GEO:14.663721;51.728766
SUMMARY:Muttertagsbrunch
CLASS:PUBLIC
DESCRIPTION:Die Gäste erwartet ein vielfältiges Buffet mit kalten und war
 men Speisen\, ergänzt durch eine Auswahl an frischem Kuchen. Filterkaffee
  sowie Wasser (still und sprudelnd) sind im Angebot enthalten.\n\nKontakt:
 \n\nRestaurant Rosenflair\nWehrinselstraße 46\n03149 Forst (Lausitz)\nTel
 efon: +49 3562 69 77 24\nEmail: info@rosenflair-forst.de\nWebseite: https:
 //www.rosenflair-forst.de\n\nWeitere Informationen zur Veranstaltung: http
 ://test.reiseregion-flaeming.de/veranstaltung/lausitzer-seenland/muttertag
 sbrunch
CATEGORIES:Essen und Trinken
DTSTAMP:20260421T104033Z
END:VEVENT
END:VCALENDAR