BEGIN:VCALENDAR
VERSION:2.0
PRODID:test.reiseregion-flaeming.de
BEGIN:VEVENT
UID:69e74805ca5dd
DTSTART:20260509T120000Z
SEQUENCE:0
TRANSP:OPAQUE
DTEND:20260509T133000Z
URL:http://test.reiseregion-flaeming.de/veranstaltung/dahme-seenland/radio-
 im-wandel-der-zeit-entdeckertour-ueber-den-funkerberg
LOCATION:Museum Funkerberg\, Funkerberg 20\, 15711 Königs Wusterhausen
X-APPLE-STRUCTURED-LOCATION;VALUE=URI;X-ADDRESS="Museum Funkerberg, Funkerb
 erg 20, 15711 Königs Wusterhausen";X-APPLE-RADIUS=49;X-TITLE=Museum Funke
 rberg:geo:13.620778,52.304494
GEO:13.620778;52.304494
SUMMARY:Radio im Wandel der Zeit: Entdeckertour über den Funkerberg
CLASS:PUBLIC
DESCRIPTION:Auch im Jahr 2026  veranstaltet die Volkshochschule des Landkre
 ises Dahme-Spreewald in Zusammenarbeit mit dem Museum Funkerberg eine Vera
 nstaltungsreihe zum Thema **Radio.** In fünf Veranstaltungen erhalten die
  Teilnehmer Einblicke in die Geschichte und die Gegenwart des schönsten M
 ediums der Welt.\n\nDie Entdeckertour beschäftigt sich mit Hinterlassensc
 haften auf dem Funkerberg\, an denen Besucher sonst unwissend vorbeilaufen
 .  \nWir zeigen spannende Details der Geschichte der Rundfunkstadt Königs
  Wusterhausen und wie man sie entdecken kann.\n\nKontakt:\n\nVHS  Dahme-Sp
 reewald\nSchulweg 1\n15711 Königs Wusterhausen\nTelefon: +49 3375 25 6011
 \nEmail: vhs@dahme-spreewald.de\nWebseite: https://www.vhs-dahme-spreewald
 .de/\n\nWeitere Informationen zur Veranstaltung: http://test.reiseregion-f
 laeming.de/veranstaltung/dahme-seenland/radio-im-wandel-der-zeit-entdecker
 tour-ueber-den-funkerberg
CATEGORIES:Führung / Besichtigung
DTSTAMP:20260421T094853Z
END:VEVENT
END:VCALENDAR