BEGIN:VCALENDAR
VERSION:2.0
PRODID:test.reiseregion-flaeming.de
BEGIN:VEVENT
UID:69e4e47e586b2
DTSTART:20260605T183000Z
SEQUENCE:0
TRANSP:OPAQUE
DTEND:20260605T203000Z
URL:http://test.reiseregion-flaeming.de/veranstaltung/spreewald/wildnis-bei
 -nacht
LOCATION:Aussicht Wildnis\, Besucherparkplatz der Aussicht Wildnis\,  
X-APPLE-STRUCTURED-LOCATION;VALUE=URI;X-ADDRESS="Aussicht Wildnis, Besucher
 parkplatz der Aussicht Wildnis,  ";X-APPLE-RADIUS=49;X-TITLE=Aussicht Wild
 nis:geo:14.336586,51.944600
GEO:14.336586;51.944600
SUMMARY:Wildnis bei Nacht
CLASS:PUBLIC
DESCRIPTION:**Erleben Sie die Naturwelt Lieberoser Heide**\n\nErleben Sie d
 ie Lieberoser Heide in der Abenddämmerung und werdenden Nacht. Welche Tie
 re sind in der Nacht auf den Wildnisflächen unterwegs? Wie haben sich Tie
 re und Pflanzen an die Nacht angepasst? Was für eine Rolle spielen künst
 liche Lichtquellen für die Nacht? All das erfahren Sie auf einem ca. 2 km
  langen Abendspaziergang auf unseren Stiftungsflächen in Lieberose. Lasse
 n sie sich vom Sonnenuntergang in der Lieberoser Heide in den Bann ziehen 
 und lernen Sie die dunkle Seite der Wildnis schätzen.\n\n**Leitung:** Sop
 hie Büchner\, Stiftung Naturlandschaften Brandenburg\n\n**Treff:** Wir tr
 effen uns um 20:30 Uhr am Besucherparkplatz der Aussicht Wildnis. Er liegt
  an der  \nB168 zwischen Lieberose und Peitz.\n\n**Dauer:** ca. 1\,5 Stund
 en\n\n**Hinweise:** Begrenzte Teilnehmendenzahl\, Anmeldung erforderlich. 
 Teilnahmebeitrag: pro Erwachsener 8 €\, Kinder kostenfrei. Geeignet für
  die ganze Familie. Wir freuen uns über eine Spende für den Wildnisschut
 z.\n\nDiese Führung ist ein Angebot der „Ranger- und Erlebnistouren“.
 \n\nKontakt:\n\nStiftung Naturlandschaften Brandenburg\nSchulstraße 6\n14
 482 Potsdam\nTelefon: +49 331 7409322\nEmail: \n\nWeitere Informationen zu
 r Veranstaltung: http://test.reiseregion-flaeming.de/veranstaltung/spreewa
 ld/wildnis-bei-nacht
CATEGORIES:Kinder und Jugendliche,Führung / Besichtigung
DTSTAMP:20260419T141942Z
END:VEVENT
END:VCALENDAR