BEGIN:VCALENDAR
VERSION:2.0
PRODID:test.reiseregion-flaeming.de
BEGIN:VEVENT
UID:69e4e482e0e8c
DTSTART:20260710T070000Z
SEQUENCE:0
TRANSP:OPAQUE
DTEND:20260710T093000Z
URL:http://test.reiseregion-flaeming.de/veranstaltung/spreewald/von-blauen-
 nattern-und-zitternden-baeumen
LOCATION:Aussicht Wildnis\, Besucherparkplatz der Aussicht Wildnis\,  
X-APPLE-STRUCTURED-LOCATION;VALUE=URI;X-ADDRESS="Aussicht Wildnis, Besucher
 parkplatz der Aussicht Wildnis,  ";X-APPLE-RADIUS=49;X-TITLE=Aussicht Wild
 nis:geo:14.336586,51.944600
GEO:14.336586;51.944600
SUMMARY:Von blauen Nattern und zitternden Bäumen
CLASS:PUBLIC
DESCRIPTION:**Erleben Sie die Naturwelt Lieberoser Heide**\n\n**Freitag\, 1
 0. Juli\, 9 Uhr**  \nDie Natur des Jahres im Wildnisgebiet Lieberose\, dem
  Herzstück der Naturwelt Lieberoser Heide\, erleben. Wir suchen die Stand
 orte von Natternkopf und Zitterpappel auf und klären warum diese für die
  Natur des Jahres 2026 ausgewählt wurden. Dabei können wir mit etwas Gl
 ück noch weitere Wildnisbewohnende entdecken.\n\n**Leitung:** Sophie Büc
 hner\, Stiftung Naturlandschaften Brandenburg\n\n**Treff:** Besucherparkpl
 atz der Aussicht Wildnis. Er liegt an der  \nB168 zwischen Lieberose und P
 eitz.\n\n**Dauer:** ca. 2 Stunden\n\n**Hinweise:** Begrenzte Teilnehmenden
 zahl\, Anmeldung erforderlich. Teilnahmebeitrag: pro Erwachsener 8 €\, K
 inder kostenfrei. Geeignet für die ganze Familie. Bitte auf Sonnenschutz 
 achten. Wir freuen uns über eine Spende für den Wildnisschutz.\n\nDiese 
 Führung ist ein Angebot der „Ranger- und Erlebnistouren“.\n\nKontakt:
 \n\nStiftung Naturlandschaften Brandenburg\nSchulstraße 6\n14482 Potsdam\
 nTelefon: +49 331 7409322\nEmail: \n\nWeitere Informationen zur Veranstalt
 ung: http://test.reiseregion-flaeming.de/veranstaltung/spreewald/von-blaue
 n-nattern-und-zitternden-baeumen
CATEGORIES:Kinder und Jugendliche,Führung / Besichtigung
DTSTAMP:20260419T141946Z
END:VEVENT
END:VCALENDAR