BEGIN:VCALENDAR
VERSION:2.0
PRODID:test.reiseregion-flaeming.de
BEGIN:VEVENT
UID:69e4e47ea1a45
DTSTART:20260530T130000Z
SEQUENCE:0
TRANSP:OPAQUE
DTEND:20260530T150000Z
URL:http://test.reiseregion-flaeming.de/veranstaltung/spreewald/geschuppte-
 schoenheiten
LOCATION:Aussicht Wildnis\, Besucherparkplatz der Aussicht Wildnis\,  
X-APPLE-STRUCTURED-LOCATION;VALUE=URI;X-ADDRESS="Aussicht Wildnis, Besucher
 parkplatz der Aussicht Wildnis,  ";X-APPLE-RADIUS=49;X-TITLE=Aussicht Wild
 nis:geo:14.336586,51.944600
GEO:14.336586;51.944600
SUMMARY:Geschuppte Schönheiten
CLASS:PUBLIC
DESCRIPTION:**Erleben Sie die Naturwelt Lieberoser Heide**\n\n**Geschuppte 
 Schönheiten. Samstag\, 30. Mai 2026\, 15 Uhr**\n\nTagfalter bezaubern uns
  in den Sommermonaten mit Ihrer Vielfalt und Farbenpracht. Gemeinsam wolle
 n wir die Tagfalter im Wildnisgebiet beobachten und mehr über Ihre Lebens
 räume\, Nahrungspflanzen und Flugzeiten erfahren. Sicher lernen Sie die e
 in oder andere bisher unbekannte Art kennen und erfahren was Sie selbst zu
 m Schutz der geschuppten Schönheiten beitragen können.\n\n**Leitung:** S
 ophie Büchner\, Stiftung Naturlandschaften Brandenburg – Die Wildnissti
 ftung\n\n**Treff:** Besucherparkplatz der Aussicht Wildnis. Er liegt an de
 r B168 zwischen Lieberose und Peitz.\n\n**Dauer:** ca. 2 h\n\n**Hinweise**
  : Begrenzte Teilnehmendenzahl\, Anmeldung erforderlich. Teilnahmebeitrag:
  pro Erwachsener 8 €\, Kinder kostenfrei. Bitte auf Sonnenschutz achten.
  Wir freuen uns über eine Spende für den Wildnisschutz.\n\nDiese Führun
 g ist ein Angebot der „Ranger- und Erlebnistouren“.\n\nKontakt:\n\nSti
 ftung Naturlandschaften Brandenburg\nSchulstraße 6\n14482 Potsdam\nTelefo
 n: +49 331 7409322\nEmail: \n\nWeitere Informationen zur Veranstaltung: ht
 tp://test.reiseregion-flaeming.de/veranstaltung/spreewald/geschuppte-schoe
 nheiten
CATEGORIES:Kinder und Jugendliche,Führung / Besichtigung
DTSTAMP:20260419T141942Z
END:VEVENT
END:VCALENDAR