BEGIN:VCALENDAR
VERSION:2.0
PRODID:test.reiseregion-flaeming.de
BEGIN:VEVENT
UID:69e4d27536dd9
DTSTART:20260510T080000Z
SEQUENCE:0
TRANSP:OPAQUE
DTEND:20260510T110000Z
URL:http://test.reiseregion-flaeming.de/veranstaltung/spreewald/historische
 -relikte-in-der-lieberoser-heide-2
LOCATION:Aussicht Wildnis\, Besucherparkplatz der Aussicht Wildnis\,  
X-APPLE-STRUCTURED-LOCATION;VALUE=URI;X-ADDRESS="Aussicht Wildnis, Besucher
 parkplatz der Aussicht Wildnis,  ";X-APPLE-RADIUS=49;X-TITLE=Aussicht Wild
 nis:geo:14.336586,51.944600
GEO:14.336586;51.944600
SUMMARY:Historische Relikte in der Lieberoser Heide
CLASS:PUBLIC
DESCRIPTION:**Erleben Sie die Naturwelt Lieberoser Heide**\n\n**Historische
  Relikte in der Lieberoser Heide – Warschauer Höhe**\n\nEntdecken Sie g
 emeinsam mit dem Historiker Dr. Andreas Weigelt den ehemaligen sowjetische
 n Truppenübungsplatz Lieberose. Die militärgeschichtliche Führung schli
 eßt den Beobachtungspunkt „Warschauer Höhe“\, bekannt auch als Gener
 alshügel ein.\n\n**Leitung:** Dr. Andreas Weigelt\, Leiter der Dokumentat
 ionsstelle Lager Jamlitz\n\n**Treffpunkt** : Besucherparkplatz der Aussich
 t Wildnis an der B168 zwischen Lieberose und Peitz.\n\n**Dauer** : ca. 2-3
  Std.\n\n**Hinweise** :  Begrenzte Teilnehmendenzahl\, Anmeldung erforderl
 ich. Teilnahmebeitrag: pro Erwachsener 8 €\, Kinder kostenfrei. Wir freu
 en uns über eine Spende für den Wildnisschutz.\n\nKontakt:\n\nStiftung N
 aturlandschaften Brandenburg\nSchulstraße 6\n14482 Potsdam\nTelefon: +49 
 331 7409322\nEmail: \n\nWeitere Informationen zur Veranstaltung: http://te
 st.reiseregion-flaeming.de/veranstaltung/spreewald/historische-relikte-in-
 der-lieberoser-heide-2
CATEGORIES:Kinder und Jugendliche,Führung / Besichtigung
DTSTAMP:20260419T130245Z
END:VEVENT
END:VCALENDAR