BEGIN:VCALENDAR
VERSION:2.0
PRODID:test.reiseregion-flaeming.de
BEGIN:VEVENT
UID:69e4eb8781570
DTSTART:20261010T080000Z
SEQUENCE:0
TRANSP:OPAQUE
DTEND:20261010T120000Z
URL:http://test.reiseregion-flaeming.de/veranstaltung/spreewald/historische
 -relikte-in-der-lieberoser-heide
LOCATION:Schloss Lieberose\, Schlosshof  1\, 15868 Lieberose
X-APPLE-STRUCTURED-LOCATION;VALUE=URI;X-ADDRESS="Schloss Lieberose, Schloss
 hof  1, 15868 Lieberose";X-APPLE-RADIUS=49;X-TITLE=Schloss Lieberose:geo:1
 4.302091,51.988346
GEO:14.302091;51.988346
SUMMARY:Historische Relikte in der Lieberoser Heide
CLASS:PUBLIC
DESCRIPTION:**Erleben Sie die Naturwelt Lieberoser Heide**\n\nErkunden Sie 
 gemeinsam mit dem Historiker Dr. Andreas Weigelt den ehemaligen SS-Truppen
 übungsplatz „Kurmark“. Die militärgeschichtliche Führung beginnt in
  Leeskow\, hier werden Bunkeranlagen aus den Jahren 1944/45 sowie das ehem
 alige SS-Gut äußerlich besichtigt. Eine weitere Station der Exkursion is
 t die Gedenkstätte in Jamlitz.\n\n**Leitung:** Dr. Andreas Weigelt\, Hist
 oriker\n\n**Treffpunkt** : Schlosshof 1\, 15868 Lieberose\n\n**Dauer** : c
 a. 3-4 Std.\n\n**Hinweise** :  Begrenzte Teilnehmendenzahl\, Anmeldung erf
 orderlich. Teilnahmebeitrag: pro Erwachsener 8 €\, Kinder kostenfrei. Wi
 r freuen uns über eine Spende für den Wildnisschutz.\n\nKontakt:\n\nStif
 tung Naturlandschaften Brandenburg\nSchulstraße 6\n14482 Potsdam\nTelefon
 : +49 331 7409322\nEmail: \n\nWeitere Informationen zur Veranstaltung: htt
 p://test.reiseregion-flaeming.de/veranstaltung/spreewald/historische-relik
 te-in-der-lieberoser-heide
CATEGORIES:Kinder und Jugendliche,Führung / Besichtigung
DTSTAMP:20260419T144943Z
END:VEVENT
END:VCALENDAR