BEGIN:VCALENDAR
VERSION:2.0
PRODID:test.reiseregion-flaeming.de
BEGIN:VEVENT
UID:69e4e9fc32855
DTSTART:20260905T080000Z
SEQUENCE:0
TRANSP:OPAQUE
DTEND:20260905T110000Z
URL:http://test.reiseregion-flaeming.de/veranstaltung/spreewald/exkursion-e
 ntlang-der-wueste
LOCATION:Schloss Lieberose\, Schlosshof  1\, 15868 Lieberose
X-APPLE-STRUCTURED-LOCATION;VALUE=URI;X-ADDRESS="Schloss Lieberose, Schloss
 hof  1, 15868 Lieberose";X-APPLE-RADIUS=49;X-TITLE=Schloss Lieberose:geo:1
 4.302091,51.988346
GEO:14.302091;51.988346
SUMMARY:Exkursion entlang der Wüste
CLASS:PUBLIC
DESCRIPTION:**Erleben Sie die Naturwelt Lieberoser Heide**\n\n**Exkursion e
 ntlang der Wüste. Samstag\, 05. September 2026\, 10.00 Uhr   **  \nEntdec
 ken Sie die größte „Wüste“ Deutschlands! Gemeinsam mit dem Revierf
 örster Peter Wöhl (Landesbetrieb Forst Brandenburg) wandern Sie entlang 
 der größten „Wüste“ Deutschlands. Dabei erfahren Sie Wissenswertes 
 zur Historie der „Wüste“\, Vielfältiges über ihre hohe Popularität
  und bestehende Interessenkonflikte. Anschließend besichtigen Sie den nah
 e gelegene Solarpark Lieberose\, eines der größten Photovoltaik-Kraftwer
 ke der Welt.\n\n**Leitung** : Peter Wöhl\, Landesbetrieb Forst Brandenbur
 g\n\n**Treffpunkt** : Schlosshof 1\, 15868 Lieberose\n\n**Dauer** : ca. 3 
 Std.\n\n**Hinweise:** Begrenzte Teilnehmendenzahl\, Anmeldung erforderlich
 . Teilnahmebeitrag: kostenfrei. Geeignet für die ganze Familie. Wir freue
 n uns über eine Spende für den Wildnisschutz.  \n**Hinweise** : Begrenzt
 e Teilnehmendenzahl\, Anmeldung erforderlich. Teilnahmebeitrag: kostenfrei
 \, eine Spende wird erbeten.\n\nDiese Führung ist ein Angebot der „Rang
 er- und Erlebnistouren“.\n\nKontakt:\n\nStiftung Naturlandschaften Brand
 enburg\nSchulstraße 6\n14482 Potsdam\nTelefon: +49 331 7409322\nEmail: \n
 \nWeitere Informationen zur Veranstaltung: http://test.reiseregion-flaemin
 g.de/veranstaltung/spreewald/exkursion-entlang-der-wueste
CATEGORIES:Kinder und Jugendliche,Führung / Besichtigung
DTSTAMP:20260419T144308Z
END:VEVENT
END:VCALENDAR