BEGIN:VCALENDAR
VERSION:2.0
PRODID:test.reiseregion-flaeming.de
BEGIN:VEVENT
UID:69e4eabdea58a
DTSTART:20260809T080000Z
SEQUENCE:0
TRANSP:OPAQUE
DTEND:20260809T160000Z
URL:http://test.reiseregion-flaeming.de/veranstaltung/spreewald/sommerfest-
 der-lieberoser-heide
LOCATION:Schloss Lieberose\, Schlosshof  1\, 15868 Lieberose
X-APPLE-STRUCTURED-LOCATION;VALUE=URI;X-ADDRESS="Schloss Lieberose, Schloss
 hof  1, 15868 Lieberose";X-APPLE-RADIUS=49;X-TITLE=Schloss Lieberose:geo:1
 4.302091,51.988346
GEO:14.302091;51.988346
SUMMARY:Sommerfest der Lieberoser Heide
CLASS:PUBLIC
DESCRIPTION:**Erleben Sie die Naturwelt Lieberoser Heide**\n\n**Das Sommerf
 est begeistert pro Jahr rund 2.000 Gäste**  \n _Musik\, Kultur\, Mitmacha
 ktionen\, Kunsthandwerk\, Markt der Möglichkeiten und regionale Spezialit
 äten_  \n**Treffpunkt** : Schlosshof 1\, 15868 Lieberose\n\nKontakt:\n\nN
 aturwelt Lieberoser Heide GmbH\nMühlenstr. 20\n15868 Lieberose\nTelefon: 
 +49 33671 326400\nEmail: info@naturwelt-lieberose.de\n\nWeitere Informatio
 nen zur Veranstaltung: http://test.reiseregion-flaeming.de/veranstaltung/s
 preewald/sommerfest-der-lieberoser-heide
CATEGORIES:Fest / Brauchtum,Kinder und Jugendliche
DTSTAMP:20260419T144621Z
END:VEVENT
END:VCALENDAR