BEGIN:VCALENDAR
VERSION:2.0
PRODID:test.reiseregion-flaeming.de
BEGIN:VEVENT
UID:69e75a39e9d9f
DTSTART:20261225T130000Z
SEQUENCE:0
TRANSP:OPAQUE
DTEND:20261225T160000Z
URL:http://test.reiseregion-flaeming.de/veranstaltung/seenland-oder-spree/w
 eihnachtsmarkt-auf-der-seeterrasse-am-hotel-resort-maerkisches-meer
LOCATION:Hotel - Resort \"Märkisches Meer\"\, Hauptstraße 2\, 15864 Diens
 dorf-Radlow
X-APPLE-STRUCTURED-LOCATION;VALUE=URI;X-ADDRESS="Hotel - Resort \"Märkisch
 es Meer\", Hauptstraße 2, 15864 Diensdorf-Radlow";X-APPLE-RADIUS=49;X-TIT
 LE="Hotel - Resort \"Märkisches Meer\"":geo:14.069539,52.248972
GEO:14.069539;52.248972
SUMMARY:Weihnachtsmarkt auf der Seeterrasse am HOTEL-RESORT Märkisches Mee
 r
CLASS:PUBLIC
DESCRIPTION:Auch in diesem Jahr verwöhnen wir Sie auf unserer weihnachtlic
 h geschmückten Panoramaterrasse in unseren Zauberbüdchen mit allerlei we
 ihnachtlichen Genüssen und aufregenden MeineZeit-Momenten.\n\nGenießen S
 ie den unvergleichlichen Ausblick auf unseren Lieblingssee bei offenen Feu
 ern und verwöhnen Ihre Seele mit Punsch\, Glühwein\, Kaffee\, deftiger G
 ulaschpfanne\, Knacker und Grünkohl sowie einer Champignonpfanne.\n\nFür
  all diejenigen\, die der Weihnachtsmann auch in diesem Jahr nicht findet\
 , inspirieren wir Ihre Geschenkeeinkaufsliste mit unseren hausgemachten Ma
 rmeladen und dem schon fast berühmten Eierlikör. Beim Büchsenwerfen und
  Lose ziehen besteht die Chance auf tolle vorweihnachtlich Präsente.\n\nK
 ontakt:\n\nHOTEL-RESORT Märkisches Meer\n\n \nTelefon: +49 33677 62550\nE
 mail: \n\nWeitere Informationen zur Veranstaltung: http://test.reiseregion
 -flaeming.de/veranstaltung/seenland-oder-spree/weihnachtsmarkt-auf-der-see
 terrasse-am-hotel-resort-maerkisches-meer
CATEGORIES:Fest / Brauchtum,Weihnachtsmarkt
DTSTAMP:20260421T110634Z
END:VEVENT
BEGIN:VEVENT
UID:69e75a3a30208
DTSTART:20261226T130000Z
SEQUENCE:0
TRANSP:OPAQUE
DTEND:20261226T160000Z
URL:http://test.reiseregion-flaeming.de/veranstaltung/seenland-oder-spree/w
 eihnachtsmarkt-auf-der-seeterrasse-am-hotel-resort-maerkisches-meer
LOCATION:Hotel - Resort \"Märkisches Meer\"\, Hauptstraße 2\, 15864 Diens
 dorf-Radlow
X-APPLE-STRUCTURED-LOCATION;VALUE=URI;X-ADDRESS="Hotel - Resort \"Märkisch
 es Meer\", Hauptstraße 2, 15864 Diensdorf-Radlow";X-APPLE-RADIUS=49;X-TIT
 LE="Hotel - Resort \"Märkisches Meer\"":geo:14.069539,52.248972
GEO:14.069539;52.248972
SUMMARY:Weihnachtsmarkt auf der Seeterrasse am HOTEL-RESORT Märkisches Mee
 r
CLASS:PUBLIC
DESCRIPTION:Auch in diesem Jahr verwöhnen wir Sie auf unserer weihnachtlic
 h geschmückten Panoramaterrasse in unseren Zauberbüdchen mit allerlei we
 ihnachtlichen Genüssen und aufregenden MeineZeit-Momenten.\n\nGenießen S
 ie den unvergleichlichen Ausblick auf unseren Lieblingssee bei offenen Feu
 ern und verwöhnen Ihre Seele mit Punsch\, Glühwein\, Kaffee\, deftiger G
 ulaschpfanne\, Knacker und Grünkohl sowie einer Champignonpfanne.\n\nFür
  all diejenigen\, die der Weihnachtsmann auch in diesem Jahr nicht findet\
 , inspirieren wir Ihre Geschenkeeinkaufsliste mit unseren hausgemachten Ma
 rmeladen und dem schon fast berühmten Eierlikör. Beim Büchsenwerfen und
  Lose ziehen besteht die Chance auf tolle vorweihnachtlich Präsente.\n\nK
 ontakt:\n\nHOTEL-RESORT Märkisches Meer\n\n \nTelefon: +49 33677 62550\nE
 mail: \n\nWeitere Informationen zur Veranstaltung: http://test.reiseregion
 -flaeming.de/veranstaltung/seenland-oder-spree/weihnachtsmarkt-auf-der-see
 terrasse-am-hotel-resort-maerkisches-meer
CATEGORIES:Fest / Brauchtum,Weihnachtsmarkt
DTSTAMP:20260421T110634Z
END:VEVENT
END:VCALENDAR