BEGIN:VCALENDAR
VERSION:2.0
PRODID:test.reiseregion-flaeming.de
BEGIN:VEVENT
UID:69e4cf92c7049
DTSTART:20260524T100000Z
SEQUENCE:0
TRANSP:OPAQUE
DTEND:20260524T130000Z
URL:http://test.reiseregion-flaeming.de/veranstaltung/seenland-oder-spree/p
 fingst-bbq-im-hotel-resort-maerkisches-meer
LOCATION:Hotel - Resort \"Märkisches Meer\"\, Hauptstraße 2\, 15864 Diens
 dorf-Radlow
X-APPLE-STRUCTURED-LOCATION;VALUE=URI;X-ADDRESS="Hotel - Resort \"Märkisch
 es Meer\", Hauptstraße 2, 15864 Diensdorf-Radlow";X-APPLE-RADIUS=49;X-TIT
 LE="Hotel - Resort \"Märkisches Meer\"":geo:14.069539,52.248972
GEO:14.069539;52.248972
SUMMARY:Pfingst-BBQ im HOTEL-RESORT Märkisches Meer
CLASS:PUBLIC
DESCRIPTION:Verbringen Sie auch in diesem Jahr Zeit mit besonderen Menschen
  und lassen sich rund um verwöhnen. Wir laden Sie in das Restaurant THEOs
  ein zu Rund-Um-Genuss am Pfingstsonntag.\n\n**Tipp:** Verbinden Sie Ihr P
 fingst-BBQ **von 12 bis 15 Uhr** mit einem Aufenthalt in unserem Meeres-SP
 A und lassen den Tag mit Entspannung für Körper & Geist ausklingen oder 
 genießen Sie Ihren Tag\, um einfach mal wieder zusammen zu kommen.\n\nWir
  freuen uns über Ihre Vorabreservierung:  \n**Reservierung unter: 033677 
 62550 oder per Email: maerkischesmeer@meinezeit-hotels.de**\n\nKontakt:\n\
 nHOTEL-RESORT Märkisches Meer\n\n \nTelefon: +49 33677 62550\nEmail: \n\n
 Weitere Informationen zur Veranstaltung: http://test.reiseregion-flaeming.
 de/veranstaltung/seenland-oder-spree/pfingst-bbq-im-hotel-resort-maerkisch
 es-meer
CATEGORIES:Essen und Trinken
DTSTAMP:20260419T125027Z
END:VEVENT
END:VCALENDAR