BEGIN:VCALENDAR
VERSION:2.0
PRODID:test.reiseregion-flaeming.de
BEGIN:VEVENT
UID:69e7b13375a9e
DTSTART:20260510T100000Z
SEQUENCE:0
TRANSP:OPAQUE
DTEND:20260510T130000Z
URL:http://test.reiseregion-flaeming.de/veranstaltung/seenland-oder-spree/m
 uttertags-lunch-im-hotel-resort-maerkisches-meer
LOCATION:Hotel - Resort \"Märkisches Meer\"\, Hauptstraße 2\, 15864 Diens
 dorf-Radlow
X-APPLE-STRUCTURED-LOCATION;VALUE=URI;X-ADDRESS="Hotel - Resort \"Märkisch
 es Meer\", Hauptstraße 2, 15864 Diensdorf-Radlow";X-APPLE-RADIUS=49;X-TIT
 LE="Hotel - Resort \"Märkisches Meer\"":geo:14.069539,52.248972
GEO:14.069539;52.248972
SUMMARY:Muttertags-Lunch im HOTEL-RESORT Märkisches Meer
CLASS:PUBLIC
DESCRIPTION:Verschenken Sie auch in diesem Jahr Zeit mit einem besonderen M
 enschen und lassen sich rund um verwöhnen. Wir laden Sie in das Restauran
 t THEOs ein zu Rund-Um-Genuss.\n\n**Tipp:** Verbinden Sie Ihren Muttertags
 -Lunch **von 12 bis 15 Uhr** mit einem Aufenthalt in unserem Meeres-SPA un
 d lassen den Tag mit Entspannung für Körper & Geist ausklingen oder geni
 eßen Sie Ihren Tag\, um einfach mal wieder zusammen zu kommen.\n\nWir fre
 uen uns über Ihre Vorabreservierung:  \n**Reservierung unter: 033677 6255
 0 oder per Email: maerkischesmeer@meinezeit-hotels.de**\n\nKontakt:\n\nHOT
 EL-RESORT Märkisches Meer\n\n \nTelefon: +49 33677 62550\nEmail: \n\nWeit
 ere Informationen zur Veranstaltung: http://test.reiseregion-flaeming.de/v
 eranstaltung/seenland-oder-spree/muttertags-lunch-im-hotel-resort-maerkisc
 hes-meer
CATEGORIES:Essen und Trinken
DTSTAMP:20260421T171739Z
END:VEVENT
END:VCALENDAR