BEGIN:VCALENDAR
VERSION:2.0
PRODID:test.reiseregion-flaeming.de
BEGIN:VEVENT
UID:69e4f7e603ea0
DTSTART:20260926T103000Z
SEQUENCE:0
TRANSP:OPAQUE
DTEND:20260926T163000Z
URL:http://test.reiseregion-flaeming.de/veranstaltung/lausitzer-seenland/ab
 segeln-des-lsc-auf-dem-baerwalder-see
LOCATION:Lausitzer Segelclub Bärwalder See e.V.\, Am Hafen  4\, 02943 Boxb
 erg OL
X-APPLE-STRUCTURED-LOCATION;VALUE=URI;X-ADDRESS="Lausitzer Segelclub Bärwa
 lder See e.V., Am Hafen  4, 02943 Boxberg OL";X-APPLE-RADIUS=49;X-TITLE=La
 usitzer Segelclub Bärwalder See e.V.:geo:14.559902,51.358383
GEO:14.559902;51.358383
SUMMARY:Absegeln des LSC auf dem Bärwalder See
CLASS:PUBLIC
DESCRIPTION:Der Lausitzer Segelclub – Bärwalder See e.V. läd alle Segel
 begeisterten zum traditionellen Absegeln ein\, um die diesjährige Wassers
 portsaison gemeinsam offiziell zu beenden.\n\nWeitere Informationen sind a
 uf der Homepage des LSC hinterlegt.\n\nKontakt:\n\nLausitzer Segelclub Bä
 rwalder See e.V.\nFrank Miersch\nAm Hafen 4\n02943 Boxberg OL\nTelefon: +4
 9 162 5711689\nEmail: lsc-baerwalder-see@t-online.de\nWebseite: https://ww
 w.lsc-baerwalder-see.de/\n\nWeitere Informationen zur Veranstaltung: http:
 //test.reiseregion-flaeming.de/veranstaltung/lausitzer-seenland/absegeln-d
 es-lsc-auf-dem-baerwalder-see
CATEGORIES:Sport,Rund ums Wasser
DTSTAMP:20260419T154230Z
END:VEVENT
END:VCALENDAR