BEGIN:VCALENDAR
VERSION:2.0
PRODID:test.reiseregion-flaeming.de
BEGIN:VEVENT
UID:69e4f7016012b
DTSTART:20260815T083000Z
SEQUENCE:0
TRANSP:OPAQUE
DTEND:20260815T170000Z
URL:http://test.reiseregion-flaeming.de/veranstaltung/lausitzer-seenland/tr
 aditionsregatta-des-lsc-baerwalder-see
LOCATION:Lausitzer Segelclub Bärwalder See e.V.\, Am Hafen  4\, 02943 Boxb
 erg OL
X-APPLE-STRUCTURED-LOCATION;VALUE=URI;X-ADDRESS="Lausitzer Segelclub Bärwa
 lder See e.V., Am Hafen  4, 02943 Boxberg OL";X-APPLE-RADIUS=49;X-TITLE=La
 usitzer Segelclub Bärwalder See e.V.:geo:14.559902,51.358383
GEO:14.559902;51.358383
SUMMARY:Traditionsregatta des LSC - Bärwalder See
CLASS:PUBLIC
DESCRIPTION:2 tägige Traditionsregatta des Lausitzer Segelclub – Bärwal
 der See e.V.\n\nWeitere Informationen finden Sie auf der Homepage des LSC.
 \n\nKontakt:\n\nLausitzer Segelclub Bärwalder See e.V.\nJürgen Schlowag\
 nAm Hafen 4\n02943 Boxberg OL\nTelefon: +49 162 5711689\nEmail: lsc-baerwa
 lder-see@t-online.de\nWebseite: https://www.lsc-baerwalder-see.de/\n\nWeit
 ere Informationen zur Veranstaltung: http://test.reiseregion-flaeming.de/v
 eranstaltung/lausitzer-seenland/traditionsregatta-des-lsc-baerwalder-see
CATEGORIES:Sport,Rund ums Wasser
DTSTAMP:20260419T153841Z
END:VEVENT
BEGIN:VEVENT
UID:69e4f70173179
DTSTART:20260816T083000Z
SEQUENCE:0
TRANSP:OPAQUE
DTEND:20260816T170000Z
URL:http://test.reiseregion-flaeming.de/veranstaltung/lausitzer-seenland/tr
 aditionsregatta-des-lsc-baerwalder-see
LOCATION:Lausitzer Segelclub Bärwalder See e.V.\, Am Hafen  4\, 02943 Boxb
 erg OL
X-APPLE-STRUCTURED-LOCATION;VALUE=URI;X-ADDRESS="Lausitzer Segelclub Bärwa
 lder See e.V., Am Hafen  4, 02943 Boxberg OL";X-APPLE-RADIUS=49;X-TITLE=La
 usitzer Segelclub Bärwalder See e.V.:geo:14.559902,51.358383
GEO:14.559902;51.358383
SUMMARY:Traditionsregatta des LSC - Bärwalder See
CLASS:PUBLIC
DESCRIPTION:2 tägige Traditionsregatta des Lausitzer Segelclub – Bärwal
 der See e.V.\n\nWeitere Informationen finden Sie auf der Homepage des LSC.
 \n\nKontakt:\n\nLausitzer Segelclub Bärwalder See e.V.\nJürgen Schlowag\
 nAm Hafen 4\n02943 Boxberg OL\nTelefon: +49 162 5711689\nEmail: lsc-baerwa
 lder-see@t-online.de\nWebseite: https://www.lsc-baerwalder-see.de/\n\nWeit
 ere Informationen zur Veranstaltung: http://test.reiseregion-flaeming.de/v
 eranstaltung/lausitzer-seenland/traditionsregatta-des-lsc-baerwalder-see
CATEGORIES:Sport,Rund ums Wasser
DTSTAMP:20260419T153841Z
END:VEVENT
END:VCALENDAR