BEGIN:VCALENDAR
VERSION:2.0
PRODID:test.reiseregion-flaeming.de
BEGIN:VEVENT
UID:69e754221ba33
DTSTART:20260510T100000Z
SEQUENCE:0
TRANSP:OPAQUE
DTEND:20260510T130000Z
URL:http://test.reiseregion-flaeming.de/veranstaltung/seenland-oder-spree/m
 uttertags-lunch-im-freilich-am-see
LOCATION:Freilich am See\, Karl-Marx-Damm 47a\, 15526 Bad Saarow
X-APPLE-STRUCTURED-LOCATION;VALUE=URI;X-ADDRESS="Freilich am See, Karl-Marx
 -Damm 47a, 15526 Bad Saarow";X-APPLE-RADIUS=49;X-TITLE=Freilich am See:geo
 :14.057875,52.280941
GEO:14.057875;52.280941
SUMMARY:Muttertags Lunch im Freilich am See
CLASS:PUBLIC
DESCRIPTION:**Muttertags Lunch – Zeit\, Danke zu sagen.**  \nVerwöhnt Eu
 re Mamas mit einem genussvollen Lunch in entspannter Atmosphäre.\n\nWir f
 reuen uns auf Euren Besuch.\n\nPreis pro Erwachsener: 49 €\n\nKinder von
  7-14 Jahren: 15 €\n\nKinder 0 bis 6 Jahre sind herzlich eingeladen\n\nK
 ontakt:\n\nFreilich am See\n\n \nTelefon: +49 033631 594805\nEmail: freili
 ch@meinezeit-hotels.de\nWebseite: http://www.freilich.de\n\nWeitere Inform
 ationen zur Veranstaltung: http://test.reiseregion-flaeming.de/veranstaltu
 ng/seenland-oder-spree/muttertags-lunch-im-freilich-am-see
CATEGORIES:Essen und Trinken
DTSTAMP:20260421T104034Z
END:VEVENT
END:VCALENDAR