BEGIN:VCALENDAR
VERSION:2.0
PRODID:test.reiseregion-flaeming.de
BEGIN:VEVENT
UID:69e4f840958c3
DTSTART:20260509T080000Z
SEQUENCE:0
TRANSP:OPAQUE
DTEND:20260509T180000Z
URL:http://test.reiseregion-flaeming.de/veranstaltung/lausitzer-seenland/an
 segeln-auf-dem-baerwalder-see
LOCATION:Lausitzer Segelclub Bärwalder See e.V.\, Am Hafen  4\, 02943 Boxb
 erg OL
X-APPLE-STRUCTURED-LOCATION;VALUE=URI;X-ADDRESS="Lausitzer Segelclub Bärwa
 lder See e.V., Am Hafen  4, 02943 Boxberg OL";X-APPLE-RADIUS=49;X-TITLE=La
 usitzer Segelclub Bärwalder See e.V.:geo:14.559902,51.358383
GEO:14.559902;51.358383
SUMMARY:Ansegeln auf dem Bärwalder See
CLASS:PUBLIC
DESCRIPTION:**Leinen los!  Ansegeln beim Lausitzer Segelclub – Bärwalder
  See e.V. 2026**\n\nDer Winter ist offiziell vorbei\, die Boote scharren m
 it den Kielen und wir können es kaum erwarten\, die Segelsaison endlich g
 emeinsam zu eröffnen! Weitere Informationen finden Sie auf der Homepage d
 es LSC.\n\nKontakt:\n\nLausitzer Segelclub Bärwalder See e.V.\nFrank Mier
 sch\nAm Hafen 4\n02943 Boxberg OL\nTelefon: +49 162 5711689\nEmail: lsc-ba
 erwalder-see@t-online.de\nWebseite: https://www.lsc-baerwalder-see.de/\n\n
 Weitere Informationen zur Veranstaltung: http://test.reiseregion-flaeming.
 de/veranstaltung/lausitzer-seenland/ansegeln-auf-dem-baerwalder-see
CATEGORIES:Sport,Rund ums Wasser
DTSTAMP:20260419T154400Z
END:VEVENT
END:VCALENDAR