BEGIN:VCALENDAR
VERSION:2.0
PRODID:test.reiseregion-flaeming.de
BEGIN:VEVENT
UID:69e7541d8febe
DTSTART:20260712T120000Z
SEQUENCE:0
TRANSP:OPAQUE
DTEND:20260712T150000Z
URL:http://test.reiseregion-flaeming.de/veranstaltung/seenland-oder-spree/v
 on-baeumen-bienen-und-der-zeidlerei-fahrradexkursion-durch-den-sauener-wal
 d
LOCATION:Stiftung August Bier\, Ziegeleiweg 1\, 15848 Rietz-Neuendorf
X-APPLE-STRUCTURED-LOCATION;VALUE=URI;X-ADDRESS="Stiftung August Bier, Zieg
 eleiweg 1, 15848 Rietz-Neuendorf";X-APPLE-RADIUS=49;X-TITLE=Stiftung Augus
 t Bier:geo:14.201528,52.268954
GEO:14.201528;52.268954
SUMMARY:Von Bäumen\, Bienen und der Zeidlerei - Fahrradexkursion durch den
  Sauener Wald
CLASS:PUBLIC
DESCRIPTION:Holen Sie den Drahtesel aus dem Schuppen\, wir satteln auf!\n\n
 Auf dieser dreistündigen Fahrradexkursion erkunden Sie die reichhaltige G
 ehölz- und Krautflora des Sauener Waldes. Norman Heß\, zertifizierter Na
 tur- und Landschaftsführer\, geleitet Sie mit Rad und Fachwissen entlang 
 von blütenreichen Hecken\, Alleen\, Waldsäumen\, an wasserspendenden Tei
 chen\, Quellen und interessanten Gehölzen und Kräutern vorbei - immer mi
 t dem ganzheitlichen Blick auf die Bienen und deren Tracht.\n\n \n\n**Teil
 nehmerzahl - min. 3\, max. 20**\n\n**Treff ist am Sonntag\, den 12. Juli 2
 026 am Papphaus (Informationszentrum) in Sauen am Anger. Die Veranstaltung
  beginnt um 14:00 Uhr. Wetterfeste Kleidung und festes Schuhwerk sind je n
 ach Wetterlage zu empfehlen. Zudem sollte ein verkehrssicheres und geländ
 egängiges Fahrrad mitgebracht werden. Sicheres Fahrverhalten mit dem Rad 
 wird vorausgesetzt.**\n\nKontakt:\n\nNorman Heß\n\n15299 Müllrose\nTelef
 on: +49 33672 72759\nEmail: info@stiftung-august-bier.de\n\nWeitere Inform
 ationen zur Veranstaltung: http://test.reiseregion-flaeming.de/veranstaltu
 ng/seenland-oder-spree/von-baeumen-bienen-und-der-zeidlerei-fahrradexkursi
 on-durch-den-sauener-wald
CATEGORIES:Kinder und Jugendliche,Radtouren
DTSTAMP:20260421T104029Z
END:VEVENT
END:VCALENDAR