BEGIN:VCALENDAR
VERSION:2.0
PRODID:test.reiseregion-flaeming.de
BEGIN:VEVENT
UID:69e78854cad4a
DTSTART:20260628T130000Z
SEQUENCE:0
TRANSP:OPAQUE
DTEND:20260628T150000Z
URL:http://test.reiseregion-flaeming.de/veranstaltung/spreewald/keimzeit-ge
 bt-der-avantgarde-das-licht-sonderkonzert
LOCATION:Glad-House\, Straße der Jugend 16\, 03046 Cottbus
X-APPLE-STRUCTURED-LOCATION;VALUE=URI;X-ADDRESS="Glad-House, Straße der Ju
 gend 16, 03046 Cottbus";X-APPLE-RADIUS=49;X-TITLE=Glad-House:geo:14.333564
 ,51.754332
GEO:14.333564;51.754332
SUMMARY:KEIMZEIT - Gebt der Avantgarde das Licht - Sonderkonzert
CLASS:PUBLIC
DESCRIPTION:Sonderkonzert\n\nKontakt:\n\nCottbus Service\nBerliner Platz 6\
 n03046 Cottbus\nTelefon: +49 355 7542444\nEmail: \n\nWeitere Informationen
  zur Veranstaltung: http://test.reiseregion-flaeming.de/veranstaltung/spre
 ewald/keimzeit-gebt-der-avantgarde-das-licht-sonderkonzert
CATEGORIES:Rock / Pop / Jazz
DTSTAMP:20260421T142316Z
END:VEVENT
END:VCALENDAR