BEGIN:VCALENDAR
VERSION:2.0
PRODID:test.reiseregion-flaeming.de
BEGIN:VEVENT
UID:69e783d6810dc
DTSTART:20260627T180000Z
SEQUENCE:0
TRANSP:OPAQUE
DTEND:20260627T200000Z
URL:http://test.reiseregion-flaeming.de/veranstaltung/spreewald/keimzeit-di
 e-tour-zum-neuen-album
LOCATION:Glad-House\, Straße der Jugend 16\, 03046 Cottbus
X-APPLE-STRUCTURED-LOCATION;VALUE=URI;X-ADDRESS="Glad-House, Straße der Ju
 gend 16, 03046 Cottbus";X-APPLE-RADIUS=49;X-TITLE=Glad-House:geo:14.333564
 ,51.754332
GEO:14.333564;51.754332
SUMMARY:KEIMZEIT - Die Tour zum neuen Album
CLASS:PUBLIC
DESCRIPTION:Wer Keimzeit kennt und liebt\, wird bei dieser Tour zum 14. Stu
 dioalbum dabei sein - für gute Musik ist immer Zeit!  \nDie Songs von Kei
 mzeit reflektieren unser Leben - mal ironisch\, mal spielerisch und meiste
 ns mit einem Augenzwinkern. Das Spektrum der sechs Musiker ist so breit\, 
 dass man diese Band kaum in eine Schublade stecken kann. Ob mit „Kling K
 lang“ nach Feuerland\, auf einem Schiff nach „Singapur“ oder mit dem
  „Hausmeister“ zur „Berlinale“ - die Songs von Keimzeit erzählen 
 charmante Geschichten\, und die Konzerte sind immer einen Besuch wert.  \n
 Eines der Markenzeichen: Norbert Leisegangs unverwechselbarer Gesang. Von 
 den Gründungsmitgliedern sind nach wie vor Norbert und sein Bruder Hartmu
 t Leisegang am Bass aktiv. Andreas „Spatz“ Sperling (Piano\, Orgel\, G
 esang) ist seit 1993 an Bord. Dazu bereichern der Dresdner Lars Kutschke (
 Gitarre)\, Sebastian Nachtwei (Trompete\, Flügelhorn und Gesang) und der 
 Erfurter Lin Dittmann am Schlagzeug seit vielen Jahren die Band.\n\nKontak
 t:\n\nCottbus Service\nBerliner Platz 6\n03046 Cottbus\nTelefon: +49 355 7
 542444\nEmail: \n\nWeitere Informationen zur Veranstaltung: http://test.re
 iseregion-flaeming.de/veranstaltung/spreewald/keimzeit-die-tour-zum-neuen-
 album
CATEGORIES:Rock / Pop / Jazz
DTSTAMP:20260421T140406Z
END:VEVENT
END:VCALENDAR