BEGIN:VCALENDAR
VERSION:2.0
PRODID:test.reiseregion-flaeming.de
BEGIN:VEVENT
UID:69e7454f332a9
DTSTART:20260424T083000Z
SEQUENCE:0
TRANSP:OPAQUE
DTEND:20260424T093000Z
URL:http://test.reiseregion-flaeming.de/veranstaltung/potsdam/explore-dance
 -main-character-lost-10-plus
LOCATION:fabrik Potsdam\, Schiffbauergasse 10\, 14467 Potsdam
X-APPLE-STRUCTURED-LOCATION;VALUE=URI;X-ADDRESS="fabrik Potsdam, Schiffbaue
 rgasse 10, 14467 Potsdam";X-APPLE-RADIUS=49;X-TITLE=fabrik Potsdam:geo:13.
 074945,52.402578
GEO:13.074945;52.402578
SUMMARY:explore dance – Main Character: Lost (10+)
CLASS:PUBLIC
DESCRIPTION:_Main Character: Lost_ beschäftigt sich mit den Erwartungen\, 
 Unsicherheiten und dem Wunsch nach Selbstbestimmung von jungen Menschen. J
 ugendliche stehen heute unter enormem Druck – von Eltern\, Schule\, sozi
 alen Medien und der Gesellschaft. Kein Wunder\, dass man sich da manchmal 
 einfach… lost fühlt.\n\nGemeinsam mit drei Tänzer*innen aus Breaking\,
  Hip-Hop und zeitgenössischem Tanz verwandelt die Kompanie Miller de Nobi
 li dieses innere Chaos in Bewegung: Stress und Stille\, Wut und Hoffnung\,
  das Gefühl\, allein zu sein oder völlig missverstanden. Wie findet man 
 seinen eigenen Weg in einer Zeit\, die sich ständig verändert? Tanz\, Te
 xt und Sound verschmelzen miteinander und werfen Fragen zum Erwachsenwerde
 n in unserer heutigen Zeit auf. Direkt\, ehrlich\, dringlich.\n\nPop Up in
  Schulen: Do 23. Apr\n\nKontakt:\n\nfabrik Potsdam\nSchiffbauergasse 10\n1
 4467 Potsdam\nTelefon: +49 331 2800314\nEmail: contact@fabrikpotsdam.de\n\
 nWeitere Informationen zur Veranstaltung: http://test.reiseregion-flaeming
 .de/veranstaltung/potsdam/explore-dance-main-character-lost-10-plus
CATEGORIES:Theater / Tanz / Kabarett
DTSTAMP:20260421T093719Z
END:VEVENT
BEGIN:VEVENT
UID:69e7454f3a047
DTSTART:20260424T170000Z
SEQUENCE:0
TRANSP:OPAQUE
DTEND:20260424T180000Z
URL:http://test.reiseregion-flaeming.de/veranstaltung/potsdam/explore-dance
 -main-character-lost-10-plus
LOCATION:fabrik Potsdam\, Schiffbauergasse 10\, 14467 Potsdam
X-APPLE-STRUCTURED-LOCATION;VALUE=URI;X-ADDRESS="fabrik Potsdam, Schiffbaue
 rgasse 10, 14467 Potsdam";X-APPLE-RADIUS=49;X-TITLE=fabrik Potsdam:geo:13.
 074945,52.402578
GEO:13.074945;52.402578
SUMMARY:explore dance – Main Character: Lost (10+)
CLASS:PUBLIC
DESCRIPTION:_Main Character: Lost_ beschäftigt sich mit den Erwartungen\, 
 Unsicherheiten und dem Wunsch nach Selbstbestimmung von jungen Menschen. J
 ugendliche stehen heute unter enormem Druck – von Eltern\, Schule\, sozi
 alen Medien und der Gesellschaft. Kein Wunder\, dass man sich da manchmal 
 einfach… lost fühlt.\n\nGemeinsam mit drei Tänzer*innen aus Breaking\,
  Hip-Hop und zeitgenössischem Tanz verwandelt die Kompanie Miller de Nobi
 li dieses innere Chaos in Bewegung: Stress und Stille\, Wut und Hoffnung\,
  das Gefühl\, allein zu sein oder völlig missverstanden. Wie findet man 
 seinen eigenen Weg in einer Zeit\, die sich ständig verändert? Tanz\, Te
 xt und Sound verschmelzen miteinander und werfen Fragen zum Erwachsenwerde
 n in unserer heutigen Zeit auf. Direkt\, ehrlich\, dringlich.\n\nPop Up in
  Schulen: Do 23. Apr\n\nKontakt:\n\nfabrik Potsdam\nSchiffbauergasse 10\n1
 4467 Potsdam\nTelefon: +49 331 2800314\nEmail: contact@fabrikpotsdam.de\n\
 nWeitere Informationen zur Veranstaltung: http://test.reiseregion-flaeming
 .de/veranstaltung/potsdam/explore-dance-main-character-lost-10-plus
CATEGORIES:Theater / Tanz / Kabarett
DTSTAMP:20260421T093719Z
END:VEVENT
END:VCALENDAR