BEGIN:VCALENDAR
VERSION:2.0
PRODID:test.reiseregion-flaeming.de
BEGIN:VEVENT
UID:69e7881d5cf15
DTSTART:20260801T120000Z
SEQUENCE:0
TRANSP:OPAQUE
DTEND:20260801T170000Z
URL:http://test.reiseregion-flaeming.de/veranstaltung/prignitz/kyritzer-pup
 pentheatertage
LOCATION:Kultur Kloster Kyritz\, Johann-Sebastian-Bach-Straße 4\, 16866 Ky
 ritz
X-APPLE-STRUCTURED-LOCATION;VALUE=URI;X-ADDRESS="Kultur Kloster Kyritz, Joh
 ann-Sebastian-Bach-Straße 4, 16866 Kyritz";X-APPLE-RADIUS=49;X-TITLE=Kult
 ur Kloster Kyritz:geo:12.395535,52.944901
GEO:12.395535;52.944901
SUMMARY:Kyritzer Puppentheatertage
CLASS:PUBLIC
DESCRIPTION:Dieses Festival präsentiert die Stadt Kyritz in Zusammenarbeit
  mit dem Heimatverein Kyritz. Gemeinsam mit den verschiedensten Puppenthea
 tern gehen die kleinen und großen Besucher auf Reise in eine ganz eigene 
 Welt der Darstellenden Kunst\, deren Wurzeln bis weit in die Vergangenheit
  reichen. Alte und neue Geschichten werden auf vielfältige Art und Weise 
 und mit individuellen Charakteren gespielt und unterhalten charmant das Pu
 blikum.\n\nKontakt:\n\nKultur- und Tourismusbüro Kyritz an der Knatter\nM
 axim-Gorki-Straße 32\n16866 Kyritz\nTelefon: +49 33971 85255\nEmail: tour
 ismus@kyritz.de\n\nWeitere Informationen zur Veranstaltung: http://test.re
 iseregion-flaeming.de/veranstaltung/prignitz/kyritzer-puppentheatertage
CATEGORIES:Theater / Tanz / Kabarett,Kinder und Jugendliche
DTSTAMP:20260421T142221Z
END:VEVENT
BEGIN:VEVENT
UID:69e7881d5ebc0
DTSTART:20260802T120000Z
SEQUENCE:0
TRANSP:OPAQUE
DTEND:20260802T160000Z
URL:http://test.reiseregion-flaeming.de/veranstaltung/prignitz/kyritzer-pup
 pentheatertage
LOCATION:Kultur Kloster Kyritz\, Johann-Sebastian-Bach-Straße 4\, 16866 Ky
 ritz
X-APPLE-STRUCTURED-LOCATION;VALUE=URI;X-ADDRESS="Kultur Kloster Kyritz, Joh
 ann-Sebastian-Bach-Straße 4, 16866 Kyritz";X-APPLE-RADIUS=49;X-TITLE=Kult
 ur Kloster Kyritz:geo:12.395535,52.944901
GEO:12.395535;52.944901
SUMMARY:Kyritzer Puppentheatertage
CLASS:PUBLIC
DESCRIPTION:Dieses Festival präsentiert die Stadt Kyritz in Zusammenarbeit
  mit dem Heimatverein Kyritz. Gemeinsam mit den verschiedensten Puppenthea
 tern gehen die kleinen und großen Besucher auf Reise in eine ganz eigene 
 Welt der Darstellenden Kunst\, deren Wurzeln bis weit in die Vergangenheit
  reichen. Alte und neue Geschichten werden auf vielfältige Art und Weise 
 und mit individuellen Charakteren gespielt und unterhalten charmant das Pu
 blikum.\n\nKontakt:\n\nKultur- und Tourismusbüro Kyritz an der Knatter\nM
 axim-Gorki-Straße 32\n16866 Kyritz\nTelefon: +49 33971 85255\nEmail: tour
 ismus@kyritz.de\n\nWeitere Informationen zur Veranstaltung: http://test.re
 iseregion-flaeming.de/veranstaltung/prignitz/kyritzer-puppentheatertage
CATEGORIES:Theater / Tanz / Kabarett,Kinder und Jugendliche
DTSTAMP:20260421T142221Z
END:VEVENT
END:VCALENDAR