BEGIN:VCALENDAR
VERSION:2.0
PRODID:test.reiseregion-flaeming.de
BEGIN:VEVENT
UID:69e776d0e8fa0
DTSTART:20260725T140000Z
SEQUENCE:0
TRANSP:OPAQUE
DTEND:20260725T200000Z
URL:http://test.reiseregion-flaeming.de/veranstaltung/prignitz/carpe-noctem
 -die-filmnacht-im-klostergarten
LOCATION:Kultur Kloster Kyritz\, Johann-Sebastian-Bach-Straße 4\, 16866 Ky
 ritz
X-APPLE-STRUCTURED-LOCATION;VALUE=URI;X-ADDRESS="Kultur Kloster Kyritz, Joh
 ann-Sebastian-Bach-Straße 4, 16866 Kyritz";X-APPLE-RADIUS=49;X-TITLE=Kult
 ur Kloster Kyritz:geo:12.395535,52.944901
GEO:12.395535;52.944901
SUMMARY:Carpe noctem - Die Filmnacht im Klostergarten
CLASS:PUBLIC
DESCRIPTION:Im historische Klostergarten des Kultur|Kloster|Kyritz präsent
 ieren der Heimatverein Kyritz in Kooperation mit dem Förderkreis Film Ber
 lin-Brandenburg Film\, Musik und Gastronomie.\n\nProgramm folgt.\n\nKontak
 t:\n\nKultur- und Tourismusbüro Kyritz an der Knatter\nMaxim-Gorki-Straß
 e 32\n16866 Kyritz\nTelefon: +49 33971 85255\nEmail: tourismus@kyritz.de\n
 \nWeitere Informationen zur Veranstaltung: http://test.reiseregion-flaemin
 g.de/veranstaltung/prignitz/carpe-noctem-die-filmnacht-im-klostergarten
CATEGORIES:Film
DTSTAMP:20260421T130832Z
END:VEVENT
END:VCALENDAR