BEGIN:VCALENDAR
VERSION:2.0
PRODID:test.reiseregion-flaeming.de
BEGIN:VEVENT
UID:69e776d33324c
DTSTART:20260613T180000Z
SEQUENCE:0
TRANSP:OPAQUE
DTEND:20260613T200000Z
URL:http://test.reiseregion-flaeming.de/veranstaltung/prignitz/ladies-night
LOCATION:Kultur Kloster Kyritz\, Johann-Sebastian-Bach-Straße 4\, 16866 Ky
 ritz
X-APPLE-STRUCTURED-LOCATION;VALUE=URI;X-ADDRESS="Kultur Kloster Kyritz, Joh
 ann-Sebastian-Bach-Straße 4, 16866 Kyritz";X-APPLE-RADIUS=49;X-TITLE=Kult
 ur Kloster Kyritz:geo:12.395535,52.944901
GEO:12.395535;52.944901
SUMMARY:Ladies Night
CLASS:PUBLIC
DESCRIPTION:Es geht um vier Freunde in einer englischen Industriestadt. Kei
 n Job\, kein Geld\, keine Aussicht auf irgendeinen Erfolg. Als eine Männe
 r-Strip-Show in die Stadt kommt und die Frauen zu Beifallsstürmen hinrei
 ßt\, wittern die Freunde ihre Chance auf Erfolg und schnelles Geld. \n\n 
  \nWarum nicht auch strippen\, kann doch nicht so schwer sein? Allerdings 
 stellen sie schnell fest\, dass sie optisch nicht viel zu bieten haben. Wa
 s mehr oder weniger als Spaß beginnt\, wird bald harte Arbeit. Nach anfä
 nglich tollpatschigen Versuchen nehmen sie Unterricht bei einem weiblichen
  Revuestar und perfektionieren ihre Show. Ein Stück über „männschlich
 e“ Schwächen\, über Geldnot\, Freundschaft\, Verzweiflung\, Mut. \n\n 
  \nMit \"Ladies Night\" zeigen die Schlossfestspiele Ribbeck eine der erfo
 lgreichsten Komödien des letzten Jahrzehnts. Unter dem Titel \"Ganz oder 
 gar nicht\" wurde das Stück auch zum Kinohit. \n\n  \n2022 waren unsere V
 orstellungen AUSVERKAUFT und vor allem die Damen waren außer Rand und Ban
 d!   \nWir können für SIE EXKLUSIV dieses WAHNSINNSSTÜCK wieder \"reakt
 ivieren\"\n\nKontakt:\n\nSchlossfestspiele Ribbeck gUG\nBirkenwerderstr. 2
 2a\n13439 Berlin\nTelefon: \nEmail: grade@gmx.com\nWebseite: https://www.s
 chlossfestspiele-ribbeck.de\n\nWeitere Informationen zur Veranstaltung: ht
 tp://test.reiseregion-flaeming.de/veranstaltung/prignitz/ladies-night
CATEGORIES:Theater / Tanz / Kabarett
DTSTAMP:20260421T130835Z
END:VEVENT
END:VCALENDAR