BEGIN:VCALENDAR
VERSION:2.0
PRODID:test.reiseregion-flaeming.de
BEGIN:VEVENT
UID:69e776c951ab5
DTSTART:20260530T170000Z
SEQUENCE:0
TRANSP:OPAQUE
DTEND:20260530T183000Z
URL:http://test.reiseregion-flaeming.de/veranstaltung/prignitz/tanztheater-
 schwanensee-schwanengesang
LOCATION:Kultur Kloster Kyritz\, Johann - Sebastian - Bach - Straße  4\, 1
 6866 Kyritz
X-APPLE-STRUCTURED-LOCATION;VALUE=URI;X-ADDRESS="Kultur Kloster Kyritz, Joh
 ann - Sebastian - Bach - Straße  4, 16866 Kyritz";X-APPLE-RADIUS=49;X-TIT
 LE=Kultur Kloster Kyritz:geo:12.395535,52.944901
GEO:12.395535;52.944901
SUMMARY:Tanztheater SCHWANENSEE SCHWANENGESANG
CLASS:PUBLIC
DESCRIPTION:Schwanensee  -  eine neue Sicht auf das bekannte Werk entführt
  in eine Welt voller Gegensätze. Ein dynamisches und poetisches Stück ü
 ber Liebe\, Macht und Menschlichkeit.\n\nSchwanengesang - ein Sinnbild fü
 r die Gabe zu höherer Weltschau\, Weissagung und Erkenntnis. \n\nEin Tanz
 theaterstück mit der Park Studios Company\, der Junior Company Wittstock 
 u.a. – erzählt in zwei Akten durch zeitgenössischen Tanz und modernes 
 Ballett\, begleitet von kontrastreicher Musik unterschiedlicher Genres.\n\
 nValeska Rein (Choreografie & Tanz)\, Verena Rein (Gesang)\n\nEintritt ab 
 8 Euro\n\nKontakt:\n\nganz.kultur e.V.\nFasanenweg 5\n16866 Kyritz\nTelefo
 n: \nEmail: \n\nWeitere Informationen zur Veranstaltung: http://test.reise
 region-flaeming.de/veranstaltung/prignitz/tanztheater-schwanensee-schwanen
 gesang
CATEGORIES:Theater / Tanz / Kabarett
DTSTAMP:20260421T130825Z
END:VEVENT
BEGIN:VEVENT
UID:69e776c962e43
DTSTART:20260531T150000Z
SEQUENCE:0
TRANSP:OPAQUE
DTEND:20260531T163000Z
URL:http://test.reiseregion-flaeming.de/veranstaltung/prignitz/tanztheater-
 schwanensee-schwanengesang
LOCATION:Kultur Kloster Kyritz\, Johann - Sebastian - Bach - Straße  4\, 1
 6866 Kyritz
X-APPLE-STRUCTURED-LOCATION;VALUE=URI;X-ADDRESS="Kultur Kloster Kyritz, Joh
 ann - Sebastian - Bach - Straße  4, 16866 Kyritz";X-APPLE-RADIUS=49;X-TIT
 LE=Kultur Kloster Kyritz:geo:12.395535,52.944901
GEO:12.395535;52.944901
SUMMARY:Tanztheater SCHWANENSEE SCHWANENGESANG
CLASS:PUBLIC
DESCRIPTION:Schwanensee  -  eine neue Sicht auf das bekannte Werk entführt
  in eine Welt voller Gegensätze. Ein dynamisches und poetisches Stück ü
 ber Liebe\, Macht und Menschlichkeit.\n\nSchwanengesang - ein Sinnbild fü
 r die Gabe zu höherer Weltschau\, Weissagung und Erkenntnis. \n\nEin Tanz
 theaterstück mit der Park Studios Company\, der Junior Company Wittstock 
 u.a. – erzählt in zwei Akten durch zeitgenössischen Tanz und modernes 
 Ballett\, begleitet von kontrastreicher Musik unterschiedlicher Genres.\n\
 nValeska Rein (Choreografie & Tanz)\, Verena Rein (Gesang)\n\nEintritt ab 
 8 Euro\n\nKontakt:\n\nganz.kultur e.V.\nFasanenweg 5\n16866 Kyritz\nTelefo
 n: \nEmail: \n\nWeitere Informationen zur Veranstaltung: http://test.reise
 region-flaeming.de/veranstaltung/prignitz/tanztheater-schwanensee-schwanen
 gesang
CATEGORIES:Theater / Tanz / Kabarett
DTSTAMP:20260421T130825Z
END:VEVENT
END:VCALENDAR