BEGIN:VCALENDAR
VERSION:2.0
PRODID:test.reiseregion-flaeming.de
BEGIN:VEVENT
UID:69e61c5623adb
DTSTART:20261023T120000Z
SEQUENCE:0
TRANSP:OPAQUE
DTEND:20261023T143000Z
URL:http://test.reiseregion-flaeming.de/veranstaltung/havelland/expedition-
 spurensuche
LOCATION:Heinz Sielmann Natur-Erlebniszentrum\, Zur Döberitzer Heide 9\, 1
 4641 Wustermark
X-APPLE-STRUCTURED-LOCATION;VALUE=URI;X-ADDRESS="Heinz Sielmann Natur-Erleb
 niszentrum, Zur Döberitzer Heide 9, 14641 Wustermark";X-APPLE-RADIUS=49;X
 -TITLE=Heinz Sielmann Natur-Erlebniszentrum:geo:13.006368,52.526267
GEO:13.006368;52.526267
SUMMARY:Expedition Spurensuche
CLASS:PUBLIC
DESCRIPTION:**Die neue Expeditionsreihe der Heinz Sielmann Stiftung beleuch
 tet spannende Themen aus dem Reich der Insekten\, aus der versteckten Welt
  der Fährten und Spuren unserer einheimischen Tiere und mehr.**\n\nEin Pf
 otenabdruck\, ein umgenickter Ast oder eine Feder an der richtigen Stelle 
 können eine ganze Geschichte vom oft versteckten Leben unserer einheimisc
 hen Tiere erzählen - wenn man gelernt hat\, die verschiedenen Zeichen in 
 der Natur zu lesen.   \n  \nAuf dieser geführten **Expedition durch die D
 öberitzer Heide** gehen die Teilnehmenden gemeinsam mit den Profis der He
 inz Sielmann Stiftung auf **Spurensuche**. Spielerisch lernen Kinder (und 
 ihre Begleitpersonen)\, welche verschiedenen Spuren Tiere bei ihren Streif
 zügen durch die Natur hinterlassen und was man anhand der Spuren über di
 e Lebensweise der Tiere erfahren kann. So deutet beispielsweise ein angena
 gter Mistelzweig auf die Anwesenheit von hungrigen Feldhasen hin und Spure
 n im Sand verraten\, wer sich nachts auf dem Gelände des Natur-Erlebnisze
 ntrums Döberitzer Heide herumtreibt.  \n  \nDie Veranstaltung eignet sich
  für Familien mit Kindern ab 6 Jahren. Das spannende Spurenlesen wird mit
  lustigen Spielen ergänzt. Gemeinsam mit der Familie können die Kinder *
 *Aufgaben lösen und schließlich selbst Tierspuren in Gips gießen**. Die
  kleine Erkundungstour und der spielerische Ansatz sollen den Kindern die 
 Augen für die Vielfalt und die Schönheit der Natur öffnen. Denn auch im
  eigenen Garten\, auf dem Schulhof oder dem Spielplatz lassen sich die kle
 inen Wunder der Natur entdecken. Für die ca. 3-km-lange Wanderung sind fe
 stes Schuhwerk\, dem Wetter angepasste Kleinung und eine kleine Trinkflasc
 he empfohlen. Eine Anmeldung ist erforderlich.\n\nKontakt:\n\nSielmanns Na
 tur-Erlebniszentrum Döberitzer Heide\nZur Döberitzer Heide 9\n14641 Wust
 ermark\nTelefon: +49 33234 24890\nEmail: doeberitzer-heide@sielmann-stiftu
 ng.de\n\nWeitere Informationen zur Veranstaltung: http://test.reiseregion-
 flaeming.de/veranstaltung/havelland/expedition-spurensuche
CATEGORIES:Kinder und Jugendliche,Führung / Besichtigung
DTSTAMP:20260420T123014Z
END:VEVENT
END:VCALENDAR